BEGIN:VCALENDAR
VERSION:2.0
PRODID:-//Mountains To Sound Greenway Trust - ECPv6.15.20//NONSGML v1.0//EN
CALSCALE:GREGORIAN
METHOD:PUBLISH
X-WR-CALNAME:Mountains To Sound Greenway Trust
X-ORIGINAL-URL:https://mtsgreenway.org
X-WR-CALDESC:Events for Mountains To Sound Greenway Trust
REFRESH-INTERVAL;VALUE=DURATION:PT1H
X-Robots-Tag:noindex
X-PUBLISHED-TTL:PT1H
BEGIN:VTIMEZONE
TZID:America/Los_Angeles
BEGIN:DAYLIGHT
TZOFFSETFROM:-0800
TZOFFSETTO:-0700
TZNAME:PDT
DTSTART:20180311T100000
END:DAYLIGHT
BEGIN:STANDARD
TZOFFSETFROM:-0700
TZOFFSETTO:-0800
TZNAME:PST
DTSTART:20181104T090000
END:STANDARD
BEGIN:DAYLIGHT
TZOFFSETFROM:-0800
TZOFFSETTO:-0700
TZNAME:PDT
DTSTART:20190310T100000
END:DAYLIGHT
BEGIN:STANDARD
TZOFFSETFROM:-0700
TZOFFSETTO:-0800
TZNAME:PST
DTSTART:20191103T090000
END:STANDARD
BEGIN:DAYLIGHT
TZOFFSETFROM:-0800
TZOFFSETTO:-0700
TZNAME:PDT
DTSTART:20200308T100000
END:DAYLIGHT
BEGIN:STANDARD
TZOFFSETFROM:-0700
TZOFFSETTO:-0800
TZNAME:PST
DTSTART:20201101T090000
END:STANDARD
BEGIN:DAYLIGHT
TZOFFSETFROM:-0800
TZOFFSETTO:-0700
TZNAME:PDT
DTSTART:20210314T100000
END:DAYLIGHT
BEGIN:STANDARD
TZOFFSETFROM:-0700
TZOFFSETTO:-0800
TZNAME:PST
DTSTART:20211107T090000
END:STANDARD
BEGIN:DAYLIGHT
TZOFFSETFROM:-0800
TZOFFSETTO:-0700
TZNAME:PDT
DTSTART:20220313T100000
END:DAYLIGHT
BEGIN:STANDARD
TZOFFSETFROM:-0700
TZOFFSETTO:-0800
TZNAME:PST
DTSTART:20221106T090000
END:STANDARD
END:VTIMEZONE
BEGIN:VEVENT
DTSTART;TZID=America/Los_Angeles:20211011T090000
DTEND;TZID=America/Los_Angeles:20211011T090000
DTSTAMP:20260420T044748
CREATED:20211006T205117Z
LAST-MODIFIED:20211006T205117Z
UID:648599-1633942800-1633942800@mtsgreenway.org
SUMMARY:UW Farm Volunteer Day
DESCRIPTION:Lend your helping hands and energy for a day of urban farming at the on-campus UW Farm. Join other volunteers who pitch in to plant\, weed\, harvest\, and maintain soil health\, pollinator gardens\, and fix structures and repair equipment that helps us grow food for the community.  Bring gloves if you have them and dress for all types of weather. We also recommend bringing a snack and water bottle. Signing up on-line is required before arriving.
URL:https://mtsgreenway.org/event/uw-farm-volunteer-day-3/
LOCATION:University of Washington
ATTACH;FMTTYPE=image/png:https://ez5in8wrase.exactdn.com/wp-content/uploads/2021/10/farm-2.png
END:VEVENT
BEGIN:VEVENT
DTSTART;TZID=America/Los_Angeles:20211009T090000
DTEND;TZID=America/Los_Angeles:20211009T130000
DTSTAMP:20260420T044748
CREATED:20211006T205038Z
LAST-MODIFIED:20211006T205038Z
UID:648597-1633770000-1633784400@mtsgreenway.org
SUMMARY:UW Farm Volunteer Day
DESCRIPTION:Lend your helping hands and energy for a day of urban farming at the on-campus UW Farm. Join other volunteers who pitch in to plant\, weed\, harvest\, and maintain soil health\, pollinator gardens\, and fix structures and repair equipment that helps us grow food for the community.  Bring gloves if you have them and dress for all types of weather. We also recommend bringing a snack and water bottle. Signing up online is required before arriving.
URL:https://mtsgreenway.org/event/uw-farm-volunteer-day-2/
LOCATION:University of Washington
ATTACH;FMTTYPE=image/png:https://ez5in8wrase.exactdn.com/wp-content/uploads/2021/10/farm-1.png
END:VEVENT
BEGIN:VEVENT
DTSTART;TZID=America/Los_Angeles:20211007T130000
DTEND;TZID=America/Los_Angeles:20211007T160000
DTSTAMP:20260420T044748
CREATED:20211006T204636Z
LAST-MODIFIED:20211006T204636Z
UID:648595-1633611600-1633622400@mtsgreenway.org
SUMMARY:UW Farm Volunteer Day
DESCRIPTION:Lend your helping hands and energy for a day of urban farming at the on-campus UW Farm. Join other volunteers who pitch in to plant\, weed\, harvest\, and maintain soil health\, pollinator gardens\, and fix structures and repair equipment that helps us grow food for the community.  Bring gloves if you have them and dress for all types of weather. We also recommend bringing a snack and water bottle. Signing up online is required before arriving.
URL:https://mtsgreenway.org/event/uw-farm-volunteer-day/
LOCATION:University of Washington
ATTACH;FMTTYPE=image/png:https://ez5in8wrase.exactdn.com/wp-content/uploads/2021/10/farm.png
END:VEVENT
BEGIN:VEVENT
DTSTART;TZID=America/Los_Angeles:20190504T130000
DTEND;TZID=America/Los_Angeles:20190504T160000
DTSTAMP:20260420T044748
CREATED:20190501T200848Z
LAST-MODIFIED:20190501T200848Z
UID:162002-1556974800-1556985600@mtsgreenway.org
SUMMARY:Our Watery World: UW Aquatic Science Open House
DESCRIPTION:Come join us for a family-friendly afternoon of hands-on learning at Our Watery World\, the second annual aquatic science open house at the UW to celebrate science and research that relates to water. \nWe will have tours of the UW Fish Collection\, the Research Vessel Rachel Carson\, and real working science labs at the UW School of Aquatic and Fishery Sciences and School of Oceanography. We will also have hands-on activities led by current UW students\, staff\, postdocs and faculty across the College of the Environment and by organizations from the greater Seattle area\, which will give you an opportunity to get your hands wet and learn about the aquatic science happening right here in Seattle — covering everything from freshwater to oceans\, microscopic microbes to whales\, and everything in between! \nLocation:  UW FSH Building (1122 NE Boat Street\, Seattle) and OSB Building (1492 NE Boat Street\, Seattle) \nCost: FREE! \nThis event is co-hosted by UW outreach groups SEAS (Students Explore Aquatic Sciences) and ARGO (Academic and Recreational Graduate Oceanographers)\, and funded by the UW School of Aquatic and Fishery Sciences and School of Oceanography.
URL:https://mtsgreenway.org/event/our-watery-world-uw-aquatic-science-open-house/
LOCATION:University of Washington
CATEGORIES:Education
ATTACH;FMTTYPE=image/jpeg:https://ez5in8wrase.exactdn.com/wp-content/uploads/2019/03/53543319_338850050081293_4236101101306249216_o.jpg
END:VEVENT
BEGIN:VEVENT
DTSTART;TZID=America/Los_Angeles:20190411T190000
DTEND;TZID=America/Los_Angeles:20190411T200000
DTSTAMP:20260420T044748
CREATED:20190409T230033Z
LAST-MODIFIED:20190409T230033Z
UID:161956-1555009200-1555012800@mtsgreenway.org
SUMMARY:UW School of Environmental and Forest Sciences  2019 Sustaining Our World Lecture
DESCRIPTION:We are pleased to welcome Dorceta Taylor from the University of Michigan’s School for the Environment and Sustainability (SEAS) as our 2019 Sustaining Our World Lecture speaker! \nDorceta Taylor is the James E. Crowfoot Collegiate Chair and the Director of Diversity\, Equality and Inclusion at SEAS\, a professor of environmental sociology\, and teaches courses in environmental history\, environmental politics\, environmental justice\, climate change\, sustainable development\, sustainable food systems\, gender and the environment\, and sociological theory. Taylor will present “Diversity in Environmental Organizations: Lack of Transparency and Inequities in Compensation. \nWhen: Thursday\, April 11\, from 7-8 p.m.\nWhere: University of Washington Kane Hall 220 \nThe talk is free and open to the public\, but seating is limited\, so we encourage everyone to register in advance. Please be sure to RSVP to save your spot. \nWe hope you’ll join us for this special opportunity.
URL:https://mtsgreenway.org/event/uw-school-of-environmental-and-forest-sciences-2019-sustaining-our-world-lecture/
LOCATION:University of Washington
CATEGORIES:Education
ATTACH;FMTTYPE=image/png:https://ez5in8wrase.exactdn.com/wp-content/uploads/2019/03/dorceta-taylor-HL.png
END:VEVENT
END:VCALENDAR