BEGIN:VCALENDAR
VERSION:2.0
PRODID:-//Mountains To Sound Greenway Trust - ECPv6.15.20//NONSGML v1.0//EN
CALSCALE:GREGORIAN
METHOD:PUBLISH
X-WR-CALNAME:Mountains To Sound Greenway Trust
X-ORIGINAL-URL:https://mtsgreenway.org
X-WR-CALDESC:Events for Mountains To Sound Greenway Trust
REFRESH-INTERVAL;VALUE=DURATION:PT1H
X-Robots-Tag:noindex
X-PUBLISHED-TTL:PT1H
BEGIN:VTIMEZONE
TZID:America/Los_Angeles
BEGIN:DAYLIGHT
TZOFFSETFROM:-0800
TZOFFSETTO:-0700
TZNAME:PDT
DTSTART:20180311T100000
END:DAYLIGHT
BEGIN:STANDARD
TZOFFSETFROM:-0700
TZOFFSETTO:-0800
TZNAME:PST
DTSTART:20181104T090000
END:STANDARD
BEGIN:DAYLIGHT
TZOFFSETFROM:-0800
TZOFFSETTO:-0700
TZNAME:PDT
DTSTART:20190310T100000
END:DAYLIGHT
BEGIN:STANDARD
TZOFFSETFROM:-0700
TZOFFSETTO:-0800
TZNAME:PST
DTSTART:20191103T090000
END:STANDARD
BEGIN:DAYLIGHT
TZOFFSETFROM:-0800
TZOFFSETTO:-0700
TZNAME:PDT
DTSTART:20200308T100000
END:DAYLIGHT
BEGIN:STANDARD
TZOFFSETFROM:-0700
TZOFFSETTO:-0800
TZNAME:PST
DTSTART:20201101T090000
END:STANDARD
END:VTIMEZONE
BEGIN:VEVENT
DTSTART;TZID=America/Los_Angeles:20190605T180000
DTEND;TZID=America/Los_Angeles:20190605T193000
DTSTAMP:20260424T010814
CREATED:20190528T193355Z
LAST-MODIFIED:20190528T195133Z
UID:200354-1559757600-1559763000@mtsgreenway.org
SUMMARY:Civic Cocktail: Fighting fire with Franz
DESCRIPTION:Civic Cocktail offers a lively look at important issues facing the Puget Sound region and connects community leaders with residents in engaging conversation. The program’s conversational format features elected officials\, community leaders\, journalists\, political pundits\, and news-makers. Limited tickets available at the door; doors open at 5:30 p.m. Tickets at the door are $30. \nClick here to get your tickets! \nFeaturing Commissioner of Public Lands Hilary Franz \nLast summer\, wildfire smoke caused Seattle to have the worst air quality in the world. Wildfire season has returned\, and it’s off to an unprecedented start. This year\, more than half of the fires have broken out west of the Cascades\, according to Hilary Franz\, Washington’s commissioner of public lands and head of the state Department of Natural Resources which manages nearly six million acres of public lands. Franz will discuss the region’s wildfire readiness\, the impacts of climate change on forest health and efforts to bridge the state’s partisan divide through environmental policy.
URL:https://mtsgreenway.org/event/civic-cocktail-fighting-fire-with-franz/
LOCATION:Tom Douglas Palace Ballroom\, 2100 5th Ave\, Seattle\, 98121\, United States
ATTACH;FMTTYPE=image/jpeg:https://ez5in8wrase.exactdn.com/wp-content/uploads/2019/05/civic-cocktail.jpg
GEO:47.6147652;-122.3404919
X-APPLE-STRUCTURED-LOCATION;VALUE=URI;X-ADDRESS=Tom Douglas Palace Ballroom 2100 5th Ave Seattle 98121 United States;X-APPLE-RADIUS=500;X-TITLE=2100 5th Ave:geo:-122.3404919,47.6147652
END:VEVENT
END:VCALENDAR