BEGIN:VCALENDAR
VERSION:2.0
PRODID:-//Mountains To Sound Greenway Trust - ECPv6.15.20//NONSGML v1.0//EN
CALSCALE:GREGORIAN
METHOD:PUBLISH
X-ORIGINAL-URL:https://mtsgreenway.org
X-WR-CALDESC:Events for Mountains To Sound Greenway Trust
REFRESH-INTERVAL;VALUE=DURATION:PT1H
X-Robots-Tag:noindex
X-PUBLISHED-TTL:PT1H
BEGIN:VTIMEZONE
TZID:America/Los_Angeles
BEGIN:DAYLIGHT
TZOFFSETFROM:-0800
TZOFFSETTO:-0700
TZNAME:PDT
DTSTART:20180311T100000
END:DAYLIGHT
BEGIN:STANDARD
TZOFFSETFROM:-0700
TZOFFSETTO:-0800
TZNAME:PST
DTSTART:20181104T090000
END:STANDARD
BEGIN:DAYLIGHT
TZOFFSETFROM:-0800
TZOFFSETTO:-0700
TZNAME:PDT
DTSTART:20190310T100000
END:DAYLIGHT
BEGIN:STANDARD
TZOFFSETFROM:-0700
TZOFFSETTO:-0800
TZNAME:PST
DTSTART:20191103T090000
END:STANDARD
BEGIN:DAYLIGHT
TZOFFSETFROM:-0800
TZOFFSETTO:-0700
TZNAME:PDT
DTSTART:20200308T100000
END:DAYLIGHT
BEGIN:STANDARD
TZOFFSETFROM:-0700
TZOFFSETTO:-0800
TZNAME:PST
DTSTART:20201101T090000
END:STANDARD
END:VTIMEZONE
BEGIN:VEVENT
DTSTART;TZID=America/Los_Angeles:20190105T090000
DTEND;TZID=America/Los_Angeles:20190105T120000
DTSTAMP:20260424T063856
CREATED:20181215T005116Z
LAST-MODIFIED:20181215T005116Z
UID:110040-1546678800-1546689600@mtsgreenway.org
SUMMARY:Bird Habitat Restoration at Marymoor Park
DESCRIPTION:Join fellow Eastside Audubon bird lovers as we restore bird habitat along the Bird Loop at Marymoor Park in Redmond. This month we will be following up with mulch for our new plants planted in November and December. \nWe will also take on the Scotch broom and blackberries coming up along the meadow edges and\, perhaps\, by the river gate. They are all easy to spot this time of the year\, and we won’t be bothering our meadow birds. \nAll volunteers will meet in Lot G of Marymoor Park. No prior experience in habitat restoration necessary. Gloves and tools will be provided\, but we ask that you wear sturdy shoes\, bring a water bottle\, and dress for the weather.
URL:https://mtsgreenway.org/event/bird-habitat-restoration-at-marymoor-park/
LOCATION:Marymoor Park\, 6046 West Lake Sammamish Pkwy NE\, Redmond\, 98052
CATEGORIES:Outdoor Recreation
ATTACH;FMTTYPE=image/jpeg:https://ez5in8wrase.exactdn.com/wp-content/uploads/2018/10/43580138_10155579247186384_282217383282606080_o.jpg
ORGANIZER;CN="Eastside Audubon Society":MAILTO:office@eastsideaudubon.org
GEO:47.6603776;-122.1195179
X-APPLE-STRUCTURED-LOCATION;VALUE=URI;X-ADDRESS=Marymoor Park 6046 West Lake Sammamish Pkwy NE Redmond 98052;X-APPLE-RADIUS=500;X-TITLE=6046 West Lake Sammamish Pkwy NE:geo:-122.1195179,47.6603776
END:VEVENT
END:VCALENDAR