BEGIN:VCALENDAR
VERSION:2.0
PRODID:-//Mountains To Sound Greenway Trust - ECPv6.15.20//NONSGML v1.0//EN
CALSCALE:GREGORIAN
METHOD:PUBLISH
X-WR-CALNAME:Mountains To Sound Greenway Trust
X-ORIGINAL-URL:https://mtsgreenway.org
X-WR-CALDESC:Events for Mountains To Sound Greenway Trust
REFRESH-INTERVAL;VALUE=DURATION:PT1H
X-Robots-Tag:noindex
X-PUBLISHED-TTL:PT1H
BEGIN:VTIMEZONE
TZID:America/Los_Angeles
BEGIN:DAYLIGHT
TZOFFSETFROM:-0800
TZOFFSETTO:-0700
TZNAME:PDT
DTSTART:20180311T100000
END:DAYLIGHT
BEGIN:STANDARD
TZOFFSETFROM:-0700
TZOFFSETTO:-0800
TZNAME:PST
DTSTART:20181104T090000
END:STANDARD
BEGIN:DAYLIGHT
TZOFFSETFROM:-0800
TZOFFSETTO:-0700
TZNAME:PDT
DTSTART:20190310T100000
END:DAYLIGHT
BEGIN:STANDARD
TZOFFSETFROM:-0700
TZOFFSETTO:-0800
TZNAME:PST
DTSTART:20191103T090000
END:STANDARD
BEGIN:DAYLIGHT
TZOFFSETFROM:-0800
TZOFFSETTO:-0700
TZNAME:PDT
DTSTART:20200308T100000
END:DAYLIGHT
BEGIN:STANDARD
TZOFFSETFROM:-0700
TZOFFSETTO:-0800
TZNAME:PST
DTSTART:20201101T090000
END:STANDARD
END:VTIMEZONE
BEGIN:VEVENT
DTSTART;TZID=America/Los_Angeles:20190420T090000
DTEND;TZID=America/Los_Angeles:20190420T120000
DTSTAMP:20260421T190711
CREATED:20190409T232133Z
LAST-MODIFIED:20190409T232133Z
UID:162032-1555750800-1555761600@mtsgreenway.org
SUMMARY:Downtown Issaquah Spring Clean-Up
DESCRIPTION:A clean-up event in honor of Earth Day. Groups and individuals participate in a citywide Spring Clean-Up effort for Issaquah. \nYour efforts will benefit the people\, water and animals in our community. Bring a friend\, make new friends! Make a difference. If you can pick up litter\, push a broom\, swing a shovel or plant some flowers\, your help is needed. There are jobs for all ages and abilities and flexible schedules to get the work done. \nCelebrate Earth Day and help Keep Issaquah Beautiful! \nWe invite you to join us for the 7th annual citywide “Keep Issaquah Beautiful Day”. Volunteers are needed! Families\, groups and individuals\, are encouraged to spend a couple of hours making a difference in our community. Clubs\, businesses and students welcome! \nIf you can pick up litter\, push a broom\, swing a shovel and/or plant some flowers\, we need you! Refreshments will be served aftward. \nThere are jobs for all ages and abilities and flexible schedules to get the work done. \nClean up will include the following areas throughout town. (See volunteer sign up link below). \nWe’re encouraging businesses in historic downtown to do their part and cleanup of sidewalks\, flower boxes and more. Students can help and can earn their community service hours at the same time! Bring a friend; meet new friends and make a difference. \nCheck-in @ 9:00 a.m. at the Historic Shell Station @ 232 Front Street North (unless otherwise instructed).Projects and check in\, tools\, vests\, materials \nVolunteer sign up HERE \nA BIG thank you for our sponsors for their gracious donations!
URL:https://mtsgreenway.org/event/downtown-issaquah-spring-clean-up/
LOCATION:Historic Gas Shell Station\, Issaquah
ATTACH;FMTTYPE=image/jpeg:https://ez5in8wrase.exactdn.com/wp-content/uploads/2019/03/Image-7.jpg
GEO:47.5301011;-122.0326191
END:VEVENT
END:VCALENDAR