BEGIN:VCALENDAR
VERSION:2.0
PRODID:-//Mountains To Sound Greenway Trust - ECPv6.15.20//NONSGML v1.0//EN
CALSCALE:GREGORIAN
METHOD:PUBLISH
X-WR-CALNAME:Mountains To Sound Greenway Trust
X-ORIGINAL-URL:https://mtsgreenway.org
X-WR-CALDESC:Events for Mountains To Sound Greenway Trust
REFRESH-INTERVAL;VALUE=DURATION:PT1H
X-Robots-Tag:noindex
X-PUBLISHED-TTL:PT1H
BEGIN:VTIMEZONE
TZID:America/Los_Angeles
BEGIN:DAYLIGHT
TZOFFSETFROM:-0800
TZOFFSETTO:-0700
TZNAME:PDT
DTSTART:20230312T100000
END:DAYLIGHT
BEGIN:STANDARD
TZOFFSETFROM:-0700
TZOFFSETTO:-0800
TZNAME:PST
DTSTART:20231105T090000
END:STANDARD
BEGIN:DAYLIGHT
TZOFFSETFROM:-0800
TZOFFSETTO:-0700
TZNAME:PDT
DTSTART:20240310T100000
END:DAYLIGHT
BEGIN:STANDARD
TZOFFSETFROM:-0700
TZOFFSETTO:-0800
TZNAME:PST
DTSTART:20241103T090000
END:STANDARD
BEGIN:DAYLIGHT
TZOFFSETFROM:-0800
TZOFFSETTO:-0700
TZNAME:PDT
DTSTART:20250309T100000
END:DAYLIGHT
BEGIN:STANDARD
TZOFFSETFROM:-0700
TZOFFSETTO:-0800
TZNAME:PST
DTSTART:20251102T090000
END:STANDARD
END:VTIMEZONE
BEGIN:VEVENT
DTSTART;VALUE=DATE:20240622
DTEND;VALUE=DATE:20240623
DTSTAMP:20260424T002625
CREATED:20240517T231009Z
LAST-MODIFIED:20240517T231009Z
UID:957835-1719014400-1719100799@mtsgreenway.org
SUMMARY:Teanaway Trail Fest
DESCRIPTION:Join us for an epic\, fundraising festival benefiting Towns to Teanaway to celebrate and support local trails and all trail users!\n\nActivities to include: \n\nVolunteer Trail Work\nBike Rides\n\nShuttles to the top of Roslyn Ridge for self-guided mountain bike rides\nTeam-led gravel bike ride to Roslyn\n\n\nGroup Hike\nBike Care Station\n\nby Pac Rats\n\n\nBike Demos by Ride Roslyn\nLive Music\n\nThe Sleepers\nBitterbrush\n\n\nBrewery Tours\nFace Painting by Allison\nSilent Auction\nRaffle\n\nClick here for full event details and schedule
URL:https://mtsgreenway.org/event/teanaway-trail-fest/
LOCATION:Cle Elum
ATTACH;FMTTYPE=image/jpeg:https://ez5in8wrase.exactdn.com/wp-content/uploads/2024/05/18491779_305014036594118_982377711538334659_o.jpg
END:VEVENT
END:VCALENDAR