BEGIN:VCALENDAR
VERSION:2.0
PRODID:-//Mountains To Sound Greenway Trust - ECPv6.15.20//NONSGML v1.0//EN
CALSCALE:GREGORIAN
METHOD:PUBLISH
X-ORIGINAL-URL:https://mtsgreenway.org
X-WR-CALDESC:Events for Mountains To Sound Greenway Trust
REFRESH-INTERVAL;VALUE=DURATION:PT1H
X-Robots-Tag:noindex
X-PUBLISHED-TTL:PT1H
BEGIN:VTIMEZONE
TZID:America/Los_Angeles
BEGIN:DAYLIGHT
TZOFFSETFROM:-0800
TZOFFSETTO:-0700
TZNAME:PDT
DTSTART:20170312T100000
END:DAYLIGHT
BEGIN:STANDARD
TZOFFSETFROM:-0700
TZOFFSETTO:-0800
TZNAME:PST
DTSTART:20171105T090000
END:STANDARD
BEGIN:DAYLIGHT
TZOFFSETFROM:-0800
TZOFFSETTO:-0700
TZNAME:PDT
DTSTART:20180311T100000
END:DAYLIGHT
BEGIN:STANDARD
TZOFFSETFROM:-0700
TZOFFSETTO:-0800
TZNAME:PST
DTSTART:20181104T090000
END:STANDARD
BEGIN:DAYLIGHT
TZOFFSETFROM:-0800
TZOFFSETTO:-0700
TZNAME:PDT
DTSTART:20190310T100000
END:DAYLIGHT
BEGIN:STANDARD
TZOFFSETFROM:-0700
TZOFFSETTO:-0800
TZNAME:PST
DTSTART:20191103T090000
END:STANDARD
END:VTIMEZONE
BEGIN:VEVENT
DTSTART;TZID=America/Los_Angeles:20181027T100000
DTEND;TZID=America/Los_Angeles:20181027T180000
DTSTAMP:20260419T085348
CREATED:20181023T164438Z
LAST-MODIFIED:20181023T164438Z
UID:82223-1540634400-1540663200@mtsgreenway.org
SUMMARY:BYOB: Bring Your Own Ballot Party!
DESCRIPTION:Centro de la Raza knows that voters will need assistance in interpreting their King County Ballots. BYOB will provide multilingual (English\, Spanish\, Korean\, Chinese\, Vietnamese\, Amharic\, and Arabic) ballot interpretation assistance to everyone who attends. We are recruiting volunteers who speak Chinese\, Vietnamese\, Amharic\, and Arabic. This will be a fun\, festive\, multicultural day of entertainment. As food\, we will be featuring an American Staple “Hot Dogs”\, fruit infused water\, and some other fun treats. Live Entertainment by Massive Monkees\, Juan Gabriel\, Hip-Hop Dancers\, DJ. Free Food and Raffled Door Prizes – Amazon Echo Dot\, Tablets\, many more surprises. \n#BallotParty18 #VoteInformed #ImBallotReady #CommunityEvent \nFlyers are available in Spanish and English on the event website.
URL:https://mtsgreenway.org/event/byob-bring-your-own-ballot-party/
LOCATION:Centilia Cultural Center\, 1660 S Roberto Maestas Festival St\, Seattle\, 98144
ATTACH;FMTTYPE=image/png:https://ez5in8wrase.exactdn.com/wp-content/uploads/2018/10/BYOB_CDER.png
ORGANIZER;CN="Centro de la Raza":MAILTO:initiative1631@elcentrodelaraza.org
GEO:47.5795688;-122.3110856
X-APPLE-STRUCTURED-LOCATION;VALUE=URI;X-ADDRESS=Centilia Cultural Center 1660 S Roberto Maestas Festival St Seattle 98144;X-APPLE-RADIUS=500;X-TITLE=1660 S Roberto Maestas Festival St:geo:-122.3110856,47.5795688
END:VEVENT
END:VCALENDAR