BEGIN:VCALENDAR
VERSION:2.0
PRODID:-//Mountains To Sound Greenway Trust - ECPv6.15.20//NONSGML v1.0//EN
CALSCALE:GREGORIAN
METHOD:PUBLISH
X-ORIGINAL-URL:https://mtsgreenway.org
X-WR-CALDESC:Events for Mountains To Sound Greenway Trust
REFRESH-INTERVAL;VALUE=DURATION:PT1H
X-Robots-Tag:noindex
X-PUBLISHED-TTL:PT1H
BEGIN:VTIMEZONE
TZID:America/Los_Angeles
BEGIN:DAYLIGHT
TZOFFSETFROM:-0800
TZOFFSETTO:-0700
TZNAME:PDT
DTSTART:20180311T100000
END:DAYLIGHT
BEGIN:STANDARD
TZOFFSETFROM:-0700
TZOFFSETTO:-0800
TZNAME:PST
DTSTART:20181104T090000
END:STANDARD
BEGIN:DAYLIGHT
TZOFFSETFROM:-0800
TZOFFSETTO:-0700
TZNAME:PDT
DTSTART:20190310T100000
END:DAYLIGHT
BEGIN:STANDARD
TZOFFSETFROM:-0700
TZOFFSETTO:-0800
TZNAME:PST
DTSTART:20191103T090000
END:STANDARD
BEGIN:DAYLIGHT
TZOFFSETFROM:-0800
TZOFFSETTO:-0700
TZNAME:PDT
DTSTART:20200308T100000
END:DAYLIGHT
BEGIN:STANDARD
TZOFFSETFROM:-0700
TZOFFSETTO:-0800
TZNAME:PST
DTSTART:20201101T090000
END:STANDARD
END:VTIMEZONE
BEGIN:VEVENT
DTSTART;TZID=America/Los_Angeles:20190209T100000
DTEND;TZID=America/Los_Angeles:20190209T120000
DTSTAMP:20260420T030658
CREATED:20181214T183825Z
LAST-MODIFIED:20181215T010248Z
UID:109776-1549706400-1549713600@mtsgreenway.org
SUMMARY:Natural Yard Care Class: Plant Right for Your Site
DESCRIPTION:Selecting plants for functionality\, aesthetics and wildlife \nDid you know you can plant a landscape that has visual interest year round\, provides a home for wildlife\, AND minimizes water\, fertilizer and pesticide use?  This class will provide information on choosing the best plants for your needs\, and techniques for planting\, composting\, and mulching that will help your landscape thrive. \nAll participants will receive free plant starts and compost! \nRegister here:  https://plantrightforyoursite2019.eventbrite.com
URL:https://mtsgreenway.org/event/natural-yard-care-class-plant-right-for-your-site/
LOCATION:Brightwater Center\, 22505 State Route 9 SE\, Woodinville\, 98072
ATTACH;FMTTYPE=image/jpeg:https://ez5in8wrase.exactdn.com/wp-content/uploads/2018/12/48387845_2264294273603396_9023483958251225088_o-2.jpg
GEO:47.78951;-122.140346
X-APPLE-STRUCTURED-LOCATION;VALUE=URI;X-ADDRESS=Brightwater Center 22505 State Route 9 SE Woodinville 98072;X-APPLE-RADIUS=500;X-TITLE=22505 State Route 9 SE:geo:-122.140346,47.78951
END:VEVENT
END:VCALENDAR