BEGIN:VCALENDAR
VERSION:2.0
PRODID:-//Mountains To Sound Greenway Trust - ECPv6.15.20//NONSGML v1.0//EN
CALSCALE:GREGORIAN
METHOD:PUBLISH
X-WR-CALNAME:Mountains To Sound Greenway Trust
X-ORIGINAL-URL:https://mtsgreenway.org
X-WR-CALDESC:Events for Mountains To Sound Greenway Trust
REFRESH-INTERVAL;VALUE=DURATION:PT1H
X-Robots-Tag:noindex
X-PUBLISHED-TTL:PT1H
BEGIN:VTIMEZONE
TZID:America/Los_Angeles
BEGIN:DAYLIGHT
TZOFFSETFROM:-0800
TZOFFSETTO:-0700
TZNAME:PDT
DTSTART:20180311T100000
END:DAYLIGHT
BEGIN:STANDARD
TZOFFSETFROM:-0700
TZOFFSETTO:-0800
TZNAME:PST
DTSTART:20181104T090000
END:STANDARD
BEGIN:DAYLIGHT
TZOFFSETFROM:-0800
TZOFFSETTO:-0700
TZNAME:PDT
DTSTART:20190310T100000
END:DAYLIGHT
BEGIN:STANDARD
TZOFFSETFROM:-0700
TZOFFSETTO:-0800
TZNAME:PST
DTSTART:20191103T090000
END:STANDARD
BEGIN:DAYLIGHT
TZOFFSETFROM:-0800
TZOFFSETTO:-0700
TZNAME:PDT
DTSTART:20200308T100000
END:DAYLIGHT
BEGIN:STANDARD
TZOFFSETFROM:-0700
TZOFFSETTO:-0800
TZNAME:PST
DTSTART:20201101T090000
END:STANDARD
END:VTIMEZONE
BEGIN:VEVENT
DTSTART;TZID=America/Los_Angeles:20190129T193000
DTEND;TZID=America/Los_Angeles:20190129T220000
DTSTAMP:20260420T182057
CREATED:20190122T220434Z
LAST-MODIFIED:20190122T220434Z
UID:131198-1548790200-1548799200@mtsgreenway.org
SUMMARY:Return of the River Film Screening with WA Wild
DESCRIPTION:Join WA Wild on January 29th for a special film screening at Arc’teryx (downtown Seattle) followed by a discussion with one of the film’s directors\, John Gussman. The film will begin at 7:30pm and the discussion will follow immediately. \nAll attendees are encouraged (though not required) to bring blankets and anything you need to feel cozy. The first few attendees in the door will receive a special swag item from Arc’teryx and hot chocolate and beer will be onsite for a warm winter night! \nMore details and tickets here
URL:https://mtsgreenway.org/event/return-of-the-river-film-screening-with-wa-wild/
LOCATION:Arc’Teryx Seattle\, 400 Pike Street\, Seattle\, 98101
ATTACH;FMTTYPE=image/jpeg:https://ez5in8wrase.exactdn.com/wp-content/uploads/2019/01/49716147_482336312290937_1019933752161206272_o.jpg
GEO:47.6104287;-122.3366199
X-APPLE-STRUCTURED-LOCATION;VALUE=URI;X-ADDRESS=Arc’Teryx Seattle 400 Pike Street Seattle 98101;X-APPLE-RADIUS=500;X-TITLE=400 Pike Street:geo:-122.3366199,47.6104287
END:VEVENT
END:VCALENDAR