BEGIN:VCALENDAR
VERSION:2.0
PRODID:-//Mountains To Sound Greenway Trust - ECPv6.15.20//NONSGML v1.0//EN
CALSCALE:GREGORIAN
METHOD:PUBLISH
X-WR-CALNAME:Mountains To Sound Greenway Trust
X-ORIGINAL-URL:https://mtsgreenway.org
X-WR-CALDESC:Events for Mountains To Sound Greenway Trust
REFRESH-INTERVAL;VALUE=DURATION:PT1H
X-Robots-Tag:noindex
X-PUBLISHED-TTL:PT1H
BEGIN:VTIMEZONE
TZID:America/Los_Angeles
BEGIN:DAYLIGHT
TZOFFSETFROM:-0800
TZOFFSETTO:-0700
TZNAME:PDT
DTSTART:20180311T100000
END:DAYLIGHT
BEGIN:STANDARD
TZOFFSETFROM:-0700
TZOFFSETTO:-0800
TZNAME:PST
DTSTART:20181104T090000
END:STANDARD
BEGIN:DAYLIGHT
TZOFFSETFROM:-0800
TZOFFSETTO:-0700
TZNAME:PDT
DTSTART:20190310T100000
END:DAYLIGHT
BEGIN:STANDARD
TZOFFSETFROM:-0700
TZOFFSETTO:-0800
TZNAME:PST
DTSTART:20191103T090000
END:STANDARD
BEGIN:DAYLIGHT
TZOFFSETFROM:-0800
TZOFFSETTO:-0700
TZNAME:PDT
DTSTART:20200308T100000
END:DAYLIGHT
BEGIN:STANDARD
TZOFFSETFROM:-0700
TZOFFSETTO:-0800
TZNAME:PST
DTSTART:20201101T090000
END:STANDARD
END:VTIMEZONE
BEGIN:VEVENT
DTSTART;TZID=America/Los_Angeles:20190409T173000
DTEND;TZID=America/Los_Angeles:20190409T193000
DTSTAMP:20260419T051833
CREATED:20190322T041144Z
LAST-MODIFIED:20190322T041144Z
UID:161995-1554831000-1554838200@mtsgreenway.org
SUMMARY:The Urbanist Monthly Meetup: Council Member Sally Bagshaw
DESCRIPTION:This month we are featuring Seattle council member Sally Bagshaw. She was first elected to the City Council in 2009 after serving eight years as Chief Civil Deputy Prosecutor of the King County Prosecuting Attorney’s Office under Norm Maleng. Sally has also served as business and finance lawyer for both Washington State University and University of Washington. Sally raised two sons\, is a certified pilot\, and is a proud two-time grandmother. She and her husband\, Brad\, live in downtown Seattle. She will discussing her time on the council\, the issues our city is facing\, and taking you questions. \nThis monthly social event is free\, all ages\, and open to everyone. Come by if you want to meet other people who care about our city\, network\, or hear from an inspirational speaker at a local establishment. You can find us in the lower room\, and our guest speaker starts at 6:30 PM. \nWe will be meeting at the Panama Hotel Coffee and Tea House in the Chinatown/International District. They have coffee\, tea\, beer and wine\, and food available. They are also a cool independent cafe in a wonderful historic building in one of Seattle’s great urban neighborhoods. We hope you can join us!
URL:https://mtsgreenway.org/event/the-urbanist-monthly-meetup-council-member-sally-bagshaw/2019-04-09/
LOCATION:Panama Hotel Tea House\, 605 1st ave\, Seattle\, 98104
ATTACH;FMTTYPE=image/jpeg:https://ez5in8wrase.exactdn.com/wp-content/uploads/2019/03/53488067_1059577034243013_7181296498435424256_n.jpg
ORGANIZER;CN="The Urbanist":MAILTO:info@theurbanist.org
GEO:47.6019369;-122.3345236
X-APPLE-STRUCTURED-LOCATION;VALUE=URI;X-ADDRESS=Panama Hotel Tea House 605 1st ave Seattle 98104;X-APPLE-RADIUS=500;X-TITLE=605 1st ave:geo:-122.3345236,47.6019369
END:VEVENT
END:VCALENDAR