BEGIN:VCALENDAR
VERSION:2.0
PRODID:-//Mountains To Sound Greenway Trust - ECPv6.15.20//NONSGML v1.0//EN
CALSCALE:GREGORIAN
METHOD:PUBLISH
X-WR-CALNAME:Mountains To Sound Greenway Trust
X-ORIGINAL-URL:https://mtsgreenway.org
X-WR-CALDESC:Events for Mountains To Sound Greenway Trust
REFRESH-INTERVAL;VALUE=DURATION:PT1H
X-Robots-Tag:noindex
X-PUBLISHED-TTL:PT1H
BEGIN:VTIMEZONE
TZID:America/Los_Angeles
BEGIN:DAYLIGHT
TZOFFSETFROM:-0800
TZOFFSETTO:-0700
TZNAME:PDT
DTSTART:20170312T100000
END:DAYLIGHT
BEGIN:STANDARD
TZOFFSETFROM:-0700
TZOFFSETTO:-0800
TZNAME:PST
DTSTART:20171105T090000
END:STANDARD
BEGIN:DAYLIGHT
TZOFFSETFROM:-0800
TZOFFSETTO:-0700
TZNAME:PDT
DTSTART:20180311T100000
END:DAYLIGHT
BEGIN:STANDARD
TZOFFSETFROM:-0700
TZOFFSETTO:-0800
TZNAME:PST
DTSTART:20181104T090000
END:STANDARD
BEGIN:DAYLIGHT
TZOFFSETFROM:-0800
TZOFFSETTO:-0700
TZNAME:PDT
DTSTART:20190310T100000
END:DAYLIGHT
BEGIN:STANDARD
TZOFFSETFROM:-0700
TZOFFSETTO:-0800
TZNAME:PST
DTSTART:20191103T090000
END:STANDARD
END:VTIMEZONE
BEGIN:VEVENT
DTSTART;TZID=America/Los_Angeles:20181022T190000
DTEND;TZID=America/Los_Angeles:20181022T203000
DTSTAMP:20260423T204708
CREATED:20181026T204436Z
LAST-MODIFIED:20181026T204436Z
UID:82232-1540234800-1540240200@mtsgreenway.org
SUMMARY:Sno Valley Youth Council
DESCRIPTION:The Sno Valley Youth Council is a group of 6-12th grade students from the Snoquamlie Valley district area that plans and participates in community events and service projects\, such as preparing and serving meals at Tent City and doing suicide prevention presentations at local middle schools. The more students that are involved\, the more the group can accomplish! Any 6-12th grade students are welcome at the twice monthly meetings. \nQuestions? Contact Monica at monica@svcn.org.
URL:https://mtsgreenway.org/event/sno-valley-youth-council/2018-10-22/
LOCATION:North Bend Railroad Depot\, 205 McClellan St\, North Bend\, WA\, 98045\, United States
ATTACH;FMTTYPE=image/png:https://ez5in8wrase.exactdn.com/wp-content/uploads/2018/10/SnoValleyYouthCouncil.png
ORGANIZER;CN="Snoqualmie Valley Community Network":MAILTO:laura@svcn.info
GEO:47.4936953;-121.7848836
X-APPLE-STRUCTURED-LOCATION;VALUE=URI;X-ADDRESS=North Bend Railroad Depot 205 McClellan St North Bend WA 98045 United States;X-APPLE-RADIUS=500;X-TITLE=205 McClellan St:geo:-121.7848836,47.4936953
END:VEVENT
END:VCALENDAR