BEGIN:VCALENDAR
VERSION:2.0
PRODID:-//Mountains To Sound Greenway Trust - ECPv6.15.20//NONSGML v1.0//EN
CALSCALE:GREGORIAN
METHOD:PUBLISH
X-ORIGINAL-URL:https://mtsgreenway.org
X-WR-CALDESC:Events for Mountains To Sound Greenway Trust
REFRESH-INTERVAL;VALUE=DURATION:PT1H
X-Robots-Tag:noindex
X-PUBLISHED-TTL:PT1H
BEGIN:VTIMEZONE
TZID:America/Los_Angeles
BEGIN:DAYLIGHT
TZOFFSETFROM:-0800
TZOFFSETTO:-0700
TZNAME:PDT
DTSTART:20180311T100000
END:DAYLIGHT
BEGIN:STANDARD
TZOFFSETFROM:-0700
TZOFFSETTO:-0800
TZNAME:PST
DTSTART:20181104T090000
END:STANDARD
BEGIN:DAYLIGHT
TZOFFSETFROM:-0800
TZOFFSETTO:-0700
TZNAME:PDT
DTSTART:20190310T100000
END:DAYLIGHT
BEGIN:STANDARD
TZOFFSETFROM:-0700
TZOFFSETTO:-0800
TZNAME:PST
DTSTART:20191103T090000
END:STANDARD
BEGIN:DAYLIGHT
TZOFFSETFROM:-0800
TZOFFSETTO:-0700
TZNAME:PDT
DTSTART:20200308T100000
END:DAYLIGHT
BEGIN:STANDARD
TZOFFSETFROM:-0700
TZOFFSETTO:-0800
TZNAME:PST
DTSTART:20201101T090000
END:STANDARD
END:VTIMEZONE
BEGIN:VEVENT
DTSTART;TZID=America/Los_Angeles:20191019T100000
DTEND;TZID=America/Los_Angeles:20191019T140000
DTSTAMP:20260425T045449
CREATED:20191023T205624Z
LAST-MODIFIED:20191023T205624Z
UID:272269-1571479200-1571493600@mtsgreenway.org
SUMMARY:Restoration Planting Event with the Snoqualmie Indian Tribe
DESCRIPTION:Please join the Snoqualmie Indian Tribe’s Environmental and Natural Resource Department Saturday\, October 19th 10:00-2:00 for a Restoration Planting Event along the Sammamish River. Come out and plant trees and shrubs to help restore riparian forest! Our goal is to improve habitat for salmon and other wildlife for many generations to come. \nDirections to site: Turn onto 143rd NE off of Redmond-Woodinville Rd NE/HWY 202. We will be working along the Sammamish River Trail. Look for event signs. https://goo.gl/maps/SQJo4rxnpwB6QET69 \nWhat to bring: We will be out there rain or shine so please dress for the weather! Bring boots or shoes you don’t mind getting muddy. We will provide tools and snacks- just bring a reusable bottle/mug to drink out of. \nTo RSVP or for more information contact:\nAlex Harwell\, Outreach Coordinator\nalex.harwell@snoqualmietribe.us\n(425)229-2120
URL:https://mtsgreenway.org/event/restoration-planting-event-with-the-snoqualmie-indian-tribe/
CATEGORIES:Outdoor Recreation
END:VEVENT
BEGIN:VEVENT
DTSTART;TZID=America/Los_Angeles:20190420T100000
DTEND;TZID=America/Los_Angeles:20190420T160000
DTSTAMP:20260425T045449
CREATED:20190409T233157Z
LAST-MODIFIED:20190409T233157Z
UID:173580-1555754400-1555776000@mtsgreenway.org
SUMMARY:Earth Day Celebration: Protect Our Species
DESCRIPTION:We will be meeting along the East Fork of Kimball Creek\nAcross the street from Mt Si High School\nMeadowbrook Way SE\,\nEnter near the tennis courts \nRestoration Site Maintenance\nBattery and Lightbulb Recycling\nNature Based Crafts\nBuild a Wild Bee Hotel\nWatershed Exploration\nMushroom Inoculation\nTraveling Worms \nFor more information contact:\nAlex Harwell\,\nOutreach Coordinator\n425-229-2120\nalex.harwell@snoqualmietribe.us
URL:https://mtsgreenway.org/event/earth-day-celebration-protect-our-species/
LOCATION:Kimball Creek
CATEGORIES:Education
ATTACH;FMTTYPE=image/jpeg:https://ez5in8wrase.exactdn.com/wp-content/uploads/2019/04/images.jpg
END:VEVENT
BEGIN:VEVENT
DTSTART;TZID=America/Los_Angeles:20190323T100000
DTEND;TZID=America/Los_Angeles:20190323T140000
DTSTAMP:20260425T045449
CREATED:20190321T172935Z
LAST-MODIFIED:20190321T172935Z
UID:163088-1553335200-1553349600@mtsgreenway.org
SUMMARY:Spring Planting Event with Snoqualmie Tribe
DESCRIPTION:Tolt-MacDonald Park\nSaturday March 23rd\n10:00-2:00 \nJoin the Snoqualmie Tribe’s Environmental and Natural Resource Department at the confluence of the Tolt and Snoqualmie River. We will be enhancing the existing riparian buffer through planting trees and shrubs to improve wildlife habitat.\nDress for the weather: rain gear\, boots and clothes you don’t mind getting dirty. We will provide tools and snacks! \nRSVP:\nAlex Harwell\, Outreach Program Coordinator\n425-229-2120\nalex.harwell@snoqualmietribe.us \nLocation:\nTolt-MacDonald Park\nCarnation\, WA\nMeet at the parking lots on the North side of NE 40th St. once you enter the Park. Look for our event signs!
URL:https://mtsgreenway.org/event/spring-planting-event-with-snoqualmie-tribe/
LOCATION:Tolt-MacDonald Park\, 31020 NE 40th St\, Carnation\, 98014
ATTACH;FMTTYPE=image/png:https://ez5in8wrase.exactdn.com/wp-content/uploads/2019/03/download.png
GEO:47.644258;-121.921618
X-APPLE-STRUCTURED-LOCATION;VALUE=URI;X-ADDRESS=Tolt-MacDonald Park 31020 NE 40th St Carnation 98014;X-APPLE-RADIUS=500;X-TITLE=31020 NE 40th St:geo:-121.921618,47.644258
END:VEVENT
END:VCALENDAR