BEGIN:VCALENDAR
VERSION:2.0
PRODID:-//Mountains To Sound Greenway Trust - ECPv6.15.20//NONSGML v1.0//EN
CALSCALE:GREGORIAN
METHOD:PUBLISH
X-WR-CALNAME:Mountains To Sound Greenway Trust
X-ORIGINAL-URL:https://mtsgreenway.org
X-WR-CALDESC:Events for Mountains To Sound Greenway Trust
REFRESH-INTERVAL;VALUE=DURATION:PT1H
X-Robots-Tag:noindex
X-PUBLISHED-TTL:PT1H
BEGIN:VTIMEZONE
TZID:America/Los_Angeles
BEGIN:DAYLIGHT
TZOFFSETFROM:-0800
TZOFFSETTO:-0700
TZNAME:PDT
DTSTART:20170312T100000
END:DAYLIGHT
BEGIN:STANDARD
TZOFFSETFROM:-0700
TZOFFSETTO:-0800
TZNAME:PST
DTSTART:20171105T090000
END:STANDARD
BEGIN:DAYLIGHT
TZOFFSETFROM:-0800
TZOFFSETTO:-0700
TZNAME:PDT
DTSTART:20180311T100000
END:DAYLIGHT
BEGIN:STANDARD
TZOFFSETFROM:-0700
TZOFFSETTO:-0800
TZNAME:PST
DTSTART:20181104T090000
END:STANDARD
BEGIN:DAYLIGHT
TZOFFSETFROM:-0800
TZOFFSETTO:-0700
TZNAME:PDT
DTSTART:20190310T100000
END:DAYLIGHT
BEGIN:STANDARD
TZOFFSETFROM:-0700
TZOFFSETTO:-0800
TZNAME:PST
DTSTART:20191103T090000
END:STANDARD
BEGIN:DAYLIGHT
TZOFFSETFROM:-0800
TZOFFSETTO:-0700
TZNAME:PDT
DTSTART:20200308T100000
END:DAYLIGHT
BEGIN:STANDARD
TZOFFSETFROM:-0700
TZOFFSETTO:-0800
TZNAME:PST
DTSTART:20201101T090000
END:STANDARD
BEGIN:DAYLIGHT
TZOFFSETFROM:-0800
TZOFFSETTO:-0700
TZNAME:PDT
DTSTART:20210314T100000
END:DAYLIGHT
BEGIN:STANDARD
TZOFFSETFROM:-0700
TZOFFSETTO:-0800
TZNAME:PST
DTSTART:20211107T090000
END:STANDARD
END:VTIMEZONE
BEGIN:VEVENT
DTSTART;TZID=America/Los_Angeles:20201128T090000
DTEND;TZID=America/Los_Angeles:20201128T154500
DTSTAMP:20260420T043754
CREATED:20201021T185834Z
LAST-MODIFIED:20201208T193620Z
UID:335629-1606554000-1606578300@mtsgreenway.org
SUMMARY:Yuletide Express
DESCRIPTION:Join Santa and his elves on the Yuletide Express! Your 25-minute holiday excursion begins at the historic Snoqualmie Depot. Board seasonally decorated\, antique coaches\, and travel west to Snoqualmie Falls\, pausing briefly at the crest for a view of the river valley before returning to Snoqualmie. Each child receives a small gift from Santa\, and each ticket-holder receives two cookies. Tickets must be purchased online\, in advance of your train ride; fare includes admission to the Train Shed Exhibit Hall. Children under 2 ride free. \nTo promote social distancing\, please arrive no more than 25-minutes before departure.  Masks are required. If you feel unwell or have a fever\, please call to reschedule.
URL:https://mtsgreenway.org/event/yuletide-express/2020-11-28/
LOCATION:Snoqualmie Depot\, 38625 SE King Street\, Snoqualmie\, 98065
ATTACH;FMTTYPE=image/jpeg:https://ez5in8wrase.exactdn.com/wp-content/uploads/2020/02/Yuletide-Express.jpg
ORGANIZER;CN="Northwest Railway Museum":MAILTO:info@trainmuseum.org
GEO:47.5285125;-121.8256682
X-APPLE-STRUCTURED-LOCATION;VALUE=URI;X-ADDRESS=Snoqualmie Depot 38625 SE King Street Snoqualmie 98065;X-APPLE-RADIUS=500;X-TITLE=38625 SE King Street:geo:-121.8256682,47.5285125
END:VEVENT
BEGIN:VEVENT
DTSTART;TZID=America/Los_Angeles:20181124T090000
DTEND;TZID=America/Los_Angeles:20181124T160000
DTSTAMP:20260420T043754
CREATED:20180316T231101Z
LAST-MODIFIED:20180316T231101Z
UID:74712-1543050000-1543075200@mtsgreenway.org
SUMMARY:Santa Train
DESCRIPTION:Get ready for that “ho\, ho\, ho” season as Santa Train tickets are on sale in August! Don’t miss your chance to experience this unique holiday tradition that has been going on in Snoqualmie for 49 years. Over four weekends\, beginning November 24\, families can take a holiday train excursion aboard Santa Train to visit Santa Claus at the historic Snoqualmie Depot. Children and their families will enjoy music\, fresh-baked cookies from coal-fired ovens\, hot cocoa and fresh coffee\, and a small gift for each child. The two-hour holiday celebration takes place November 24-25\, December 1-2\, December 8-9\, and December 14-16. Friday\, December 14 is the Victorian Santa Train!
URL:https://mtsgreenway.org/event/santa-train-2/2018-11-24/
LOCATION:Northwest Railway Museum\, 205 E McClellan St\, North Bend\, WA\, 98045\, United States
ATTACH;FMTTYPE=image/jpeg:https://ez5in8wrase.exactdn.com/wp-content/uploads/2018/03/IMG_20171202_092250.jpg
ORGANIZER;CN="Northwest Railway Museum":MAILTO:info@trainmuseum.org
GEO:47.4936953;-121.7848836
X-APPLE-STRUCTURED-LOCATION;VALUE=URI;X-ADDRESS=Northwest Railway Museum 205 E McClellan St North Bend WA 98045 United States;X-APPLE-RADIUS=500;X-TITLE=205 E McClellan St:geo:-121.7848836,47.4936953
END:VEVENT
BEGIN:VEVENT
DTSTART;TZID=America/Los_Angeles:20181020T110000
DTEND;TZID=America/Los_Angeles:20181020T160000
DTSTAMP:20260420T043754
CREATED:20180316T230531Z
LAST-MODIFIED:20180316T230531Z
UID:74702-1540033200-1540051200@mtsgreenway.org
SUMMARY:Halloween Storytelling Train
DESCRIPTION:This Halloween season\, hop aboard the Halloween Storytelling Train! On the weekends of Oct 20-21 and 27-28\, you can take a special train excursion that includes a stop for cider pressing\, hands-on activities for the kids\, hot cider to ward off the chill\, a visit to the Train Shed Exhibit building for Halloween train stories with professional storyteller Karen Haas and the view from the top of Snoqualmie Falls. Find out what train stories caused shivers up the spine in days gone past! And enjoy this unique time traveling experience for 4 days this Halloween holiday season.
URL:https://mtsgreenway.org/event/halloween-storytelling-train-2/2018-10-20/
LOCATION:Northwest Railway Museum\, 205 E McClellan St\, North Bend\, WA\, 98045\, United States
ATTACH;FMTTYPE=image/jpeg:https://ez5in8wrase.exactdn.com/wp-content/uploads/2018/03/IMG_20171021_141504.jpg
ORGANIZER;CN="Northwest Railway Museum":MAILTO:info@trainmuseum.org
GEO:47.4936953;-121.7848836
X-APPLE-STRUCTURED-LOCATION;VALUE=URI;X-ADDRESS=Northwest Railway Museum 205 E McClellan St North Bend WA 98045 United States;X-APPLE-RADIUS=500;X-TITLE=205 E McClellan St:geo:-121.7848836,47.4936953
END:VEVENT
BEGIN:VEVENT
DTSTART;TZID=America/Los_Angeles:20180908T110000
DTEND;TZID=America/Los_Angeles:20180908T160000
DTSTAMP:20260420T043754
CREATED:20180316T230452Z
LAST-MODIFIED:20180316T230452Z
UID:74700-1536404400-1536422400@mtsgreenway.org
SUMMARY:Grandparents Grand Excursion
DESCRIPTION:Celebrate grandma and grandpa on National Grandparent’s Day\, September 9! It’s the perfect weekend to take the grands for a ride aboard the Northwest Railway Museum’s antique train. On both September 8 and 9\, a grandparent rides free when accompanied by a paying grandchild – of any age! Listen to the stories and share the memories of your family members. Enjoy a day together and experience the scenic beauty of the Cascade foothills aboard the Snoqualmie Valley Railroad and a stop at the Train Shed Exhibit Building!
URL:https://mtsgreenway.org/event/grandparents-grand-excursion-2/2018-09-08/
LOCATION:Northwest Railway Museum\, 205 E McClellan St\, North Bend\, WA\, 98045\, United States
ATTACH;FMTTYPE=image/jpeg:https://ez5in8wrase.exactdn.com/wp-content/uploads/2018/03/20170526_143533.jpg
ORGANIZER;CN="Northwest Railway Museum":MAILTO:info@trainmuseum.org
GEO:47.4936953;-121.7848836
X-APPLE-STRUCTURED-LOCATION;VALUE=URI;X-ADDRESS=Northwest Railway Museum 205 E McClellan St North Bend WA 98045 United States;X-APPLE-RADIUS=500;X-TITLE=205 E McClellan St:geo:-121.7848836,47.4936953
END:VEVENT
BEGIN:VEVENT
DTSTART;TZID=America/Los_Angeles:20180901T110000
DTEND;TZID=America/Los_Angeles:20180901T160000
DTSTAMP:20260420T043754
CREATED:20180316T225732Z
LAST-MODIFIED:20180316T225732Z
UID:74693-1535799600-1535817600@mtsgreenway.org
SUMMARY:Labor Day Train Rides
DESCRIPTION:The Northwest Railway Museum pays tribute to America’s workers this Labor Day with a special weekday train run of the Museum’s antique train on Monday\, September 3rd (as well as all of Labor Day weekend.) This is in addition to the railroad’s usual weekend train schedule. The Northwest Railway Museum offers scenic train excursions through the Cascade foothills of the Upper Snoqualmie Valley\, including a ride past the top of Snoqualmie Falls and a splendid view of the valley below. Train rides include a stop at the Train Shed Exhibit building\, too.
URL:https://mtsgreenway.org/event/labor-day-train-rides/2018-09-01/
LOCATION:Northwest Railway Museum\, 205 E McClellan St\, North Bend\, WA\, 98045\, United States
ATTACH;FMTTYPE=image/jpeg:https://ez5in8wrase.exactdn.com/wp-content/uploads/2018/03/IMG_20170920_182129.jpg
ORGANIZER;CN="Northwest Railway Museum":MAILTO:info@trainmuseum.org
GEO:47.4936953;-121.7848836
X-APPLE-STRUCTURED-LOCATION;VALUE=URI;X-ADDRESS=Northwest Railway Museum 205 E McClellan St North Bend WA 98045 United States;X-APPLE-RADIUS=500;X-TITLE=205 E McClellan St:geo:-121.7848836,47.4936953
END:VEVENT
BEGIN:VEVENT
DTSTART;TZID=America/Los_Angeles:20180817T170000
DTEND;TZID=America/Los_Angeles:20180817T210000
DTSTAMP:20260420T043754
CREATED:20180316T225550Z
LAST-MODIFIED:20180316T225550Z
UID:74690-1534525200-1534539600@mtsgreenway.org
SUMMARY:Snoqualmie Railroad Days
DESCRIPTION:The 80th Snoqualmie Railroad Days festival showcases Snoqualmie’s “Trains\, Timber\, Traditions” on August 17 -19\, 2018! Join the fun with a train excursions to the top of Snoqualmie Falls during the Railroad Days festival. Railroad Days highlights the uniqueness of Snoqualmie’s past\, present & future! Music\, Arts\, Wine & Beer Gardens get rolling at 5 pm on Friday\, August 17. And there are lots of family fun activities on Saturday and Sunday!
URL:https://mtsgreenway.org/event/snoqualmie-railroad-days/2018-08-17/
LOCATION:Northwest Railway Museum\, 205 E McClellan St\, North Bend\, WA\, 98045\, United States
ATTACH;FMTTYPE=image/jpeg:https://ez5in8wrase.exactdn.com/wp-content/uploads/2018/03/IMG_20170819_120554.jpg
ORGANIZER;CN="Northwest Railway Museum":MAILTO:info@trainmuseum.org
GEO:47.4936953;-121.7848836
X-APPLE-STRUCTURED-LOCATION;VALUE=URI;X-ADDRESS=Northwest Railway Museum 205 E McClellan St North Bend WA 98045 United States;X-APPLE-RADIUS=500;X-TITLE=205 E McClellan St:geo:-121.7848836,47.4936953
END:VEVENT
BEGIN:VEVENT
DTSTART;TZID=America/Los_Angeles:20180713T090000
DTEND;TZID=America/Los_Angeles:20180713T170000
DTSTAMP:20260420T043754
CREATED:20180316T225151Z
LAST-MODIFIED:20180316T225151Z
UID:74684-1531472400-1531501200@mtsgreenway.org
SUMMARY:Day Out With Thomas
DESCRIPTION:All aboard! TICKETS ON SALE BEGINNING IN FEBRUARY! Thomas the Tank Engine invites little engineers to join him for a day of big adventures and even bigger memories at Day Out with Thomas: Big Adventures Tour 2018. Children everywhere can spend a day with their friend Thomas when the #1 Engine pulls into Snoqualmie\, Washington on July 13-15 & 20-22\, 2018. Day Out with Thomas: Big Adventures Tour 2018 is presented by Mattel. Day Out with Thomas is a fun-filled event that provides children of all ages the opportunity to climb aboard and take a ride with Thomas as well as participate in Thomas & Friends™ themed activities.
URL:https://mtsgreenway.org/event/day-out-with-thomas/2018-07-13/
LOCATION:Northwest Railway Museum\, 205 E McClellan St\, North Bend\, WA\, 98045\, United States
ATTACH;FMTTYPE=image/jpeg:https://ez5in8wrase.exactdn.com/wp-content/uploads/2018/03/20140017_10154606128562073_6684394067574043811_n.jpg
ORGANIZER;CN="Northwest Railway Museum":MAILTO:info@trainmuseum.org
GEO:47.4936953;-121.7848836
X-APPLE-STRUCTURED-LOCATION;VALUE=URI;X-ADDRESS=Northwest Railway Museum 205 E McClellan St North Bend WA 98045 United States;X-APPLE-RADIUS=500;X-TITLE=205 E McClellan St:geo:-121.7848836,47.4936953
END:VEVENT
BEGIN:VEVENT
DTSTART;TZID=America/Los_Angeles:20180526T110000
DTEND;TZID=America/Los_Angeles:20180526T160000
DTSTAMP:20260420T043754
CREATED:20180316T225041Z
LAST-MODIFIED:20180316T225041Z
UID:74675-1527332400-1527350400@mtsgreenway.org
SUMMARY:Memorial Day Weekend Train Rides
DESCRIPTION:The Northwest Railway Museum pays tribute to America’s service men and women and their families this Memorial Day with a special weekday train run on Monday\, May 28th. This is in addition to the railroad’s usual weekend train schedule. All trains include a stop at the Train Shed exhibit building\, too! To commemorate the holiday\, the museum will offer $5 round trip train fare Saturday May 26\, Sunday May 27 and Monday May 28\, to members of the military: active duty\, guard\, reserve\, retired\, and their dependent family members\, with current military ID. The Museum offers scenic train excursions aboard its antique train\, through the Cascade foothills of the Upper Snoqualmie Valley\, including a ride to the top of Snoqualmie Falls and a stop at the Train Shed Exhibit Building!
URL:https://mtsgreenway.org/event/memorial-day-weekend-train-rides/2018-05-26/
LOCATION:Northwest Railway Museum\, 205 E McClellan St\, North Bend\, WA\, 98045\, United States
ATTACH;FMTTYPE=image/jpeg:https://ez5in8wrase.exactdn.com/wp-content/uploads/2018/03/044-1.jpg
ORGANIZER;CN="Northwest Railway Museum":MAILTO:info@trainmuseum.org
GEO:47.4936953;-121.7848836
X-APPLE-STRUCTURED-LOCATION;VALUE=URI;X-ADDRESS=Northwest Railway Museum 205 E McClellan St North Bend WA 98045 United States;X-APPLE-RADIUS=500;X-TITLE=205 E McClellan St:geo:-121.7848836,47.4936953
END:VEVENT
BEGIN:VEVENT
DTSTART;TZID=America/Los_Angeles:20180616T110000
DTEND;TZID=America/Los_Angeles:20180616T160000
DTSTAMP:20260420T043754
CREATED:20180316T224823Z
LAST-MODIFIED:20180316T231224Z
UID:74678-1529146800-1529164800@mtsgreenway.org
SUMMARY:Dad Rides Free
DESCRIPTION:The Northwest Railway Museum invites children to treat their dads to a special train excursion aboard the Snoqualmie Valley Railroad this Father’s Day weekend\, June 16-17. Dad rides free when accompanied by a paying child – of any age! Enjoy a stop at the Train Shed Exhibit Building\, views of the Cascade foothills\, Snoqualmie Falls\, and the Snoqualmie Valley as you relax aboard the Northwest Railway Museum’s historic coaches. Bring the whole family!
URL:https://mtsgreenway.org/event/dad-rides-free/2018-06-16/
LOCATION:Northwest Railway Museum\, 205 E McClellan St\, North Bend\, WA\, 98045\, United States
ATTACH;FMTTYPE=image/jpeg:https://ez5in8wrase.exactdn.com/wp-content/uploads/2018/03/20170528_123700_HDR-e1521240462577.jpg
ORGANIZER;CN="Northwest Railway Museum":MAILTO:info@trainmuseum.org
GEO:47.4936953;-121.7848836
X-APPLE-STRUCTURED-LOCATION;VALUE=URI;X-ADDRESS=Northwest Railway Museum 205 E McClellan St North Bend WA 98045 United States;X-APPLE-RADIUS=500;X-TITLE=205 E McClellan St:geo:-121.7848836,47.4936953
END:VEVENT
BEGIN:VEVENT
DTSTART;TZID=America/Los_Angeles:20180512T110000
DTEND;TZID=America/Los_Angeles:20180512T160000
DTSTAMP:20260420T043754
CREATED:20180316T223459Z
LAST-MODIFIED:20180316T223459Z
UID:74670-1526122800-1526140800@mtsgreenway.org
SUMMARY:Mom Rides Free
DESCRIPTION:Celebrate mom this Mother’s Day with a scenic train excursion through the Cascade foothills. You and your mom will journey to the top of Snoqualmie Falls and enjoy the view of the valley below. The Northwest Railway Museum invites mom to enjoy a free ride aboard our antique train\, when accompanied by a paying child – of any age. Passengers may board in Snoqualmie or North Bend.
URL:https://mtsgreenway.org/event/mom-rides-free/2018-05-12/
LOCATION:Northwest Railway Museum\, 205 E McClellan St\, North Bend\, WA\, 98045\, United States
ATTACH;FMTTYPE=image/jpeg:https://ez5in8wrase.exactdn.com/wp-content/uploads/2018/03/DSCN2989.jpg
ORGANIZER;CN="Northwest Railway Museum":MAILTO:info@trainmuseum.org
GEO:47.4936953;-121.7848836
X-APPLE-STRUCTURED-LOCATION;VALUE=URI;X-ADDRESS=Northwest Railway Museum 205 E McClellan St North Bend WA 98045 United States;X-APPLE-RADIUS=500;X-TITLE=205 E McClellan St:geo:-121.7848836,47.4936953
END:VEVENT
BEGIN:VEVENT
DTSTART;TZID=America/Los_Angeles:20180401T110000
DTEND;TZID=America/Los_Angeles:20180401T160000
DTSTAMP:20260420T043754
CREATED:20180316T222940Z
LAST-MODIFIED:20180316T230725Z
UID:74546-1522580400-1522598400@mtsgreenway.org
SUMMARY:Train Season
DESCRIPTION:It’s Not Just A Train Ride at the Northwest Railway Museum this train season! Beginning on Sunday\, April 1st\, visitors can explore more of the Museum’s collection as most* train excursions will include a stop at the Train Shed exhibit building in 2018. With a call of “All aboard!” Northwest Railway Museum visitors can step back in time and experience rail travel as it used to be aboard historic railway cars. The train excursions give visitors a glimpse back in time to discover how railroads influenced settlement and everyday life in Washington State.
URL:https://mtsgreenway.org/event/train-season/2018-04-01/
LOCATION:Northwest Railway Museum\, 205 E McClellan St\, North Bend\, WA\, 98045\, United States
ATTACH;FMTTYPE=image/jpeg:https://ez5in8wrase.exactdn.com/wp-content/uploads/2018/03/044.jpg
ORGANIZER;CN="Northwest Railway Museum":MAILTO:info@trainmuseum.org
GEO:47.4936953;-121.7848836
X-APPLE-STRUCTURED-LOCATION;VALUE=URI;X-ADDRESS=Northwest Railway Museum 205 E McClellan St North Bend WA 98045 United States;X-APPLE-RADIUS=500;X-TITLE=205 E McClellan St:geo:-121.7848836,47.4936953
END:VEVENT
END:VCALENDAR