BEGIN:VCALENDAR
VERSION:2.0
PRODID:-//Mountains To Sound Greenway Trust - ECPv6.15.20//NONSGML v1.0//EN
CALSCALE:GREGORIAN
METHOD:PUBLISH
X-WR-CALNAME:Mountains To Sound Greenway Trust
X-ORIGINAL-URL:https://mtsgreenway.org
X-WR-CALDESC:Events for Mountains To Sound Greenway Trust
REFRESH-INTERVAL;VALUE=DURATION:PT1H
X-Robots-Tag:noindex
X-PUBLISHED-TTL:PT1H
BEGIN:VTIMEZONE
TZID:America/Los_Angeles
BEGIN:DAYLIGHT
TZOFFSETFROM:-0800
TZOFFSETTO:-0700
TZNAME:PDT
DTSTART:20180311T100000
END:DAYLIGHT
BEGIN:STANDARD
TZOFFSETFROM:-0700
TZOFFSETTO:-0800
TZNAME:PST
DTSTART:20181104T090000
END:STANDARD
BEGIN:DAYLIGHT
TZOFFSETFROM:-0800
TZOFFSETTO:-0700
TZNAME:PDT
DTSTART:20190310T100000
END:DAYLIGHT
BEGIN:STANDARD
TZOFFSETFROM:-0700
TZOFFSETTO:-0800
TZNAME:PST
DTSTART:20191103T090000
END:STANDARD
BEGIN:DAYLIGHT
TZOFFSETFROM:-0800
TZOFFSETTO:-0700
TZNAME:PDT
DTSTART:20200308T100000
END:DAYLIGHT
BEGIN:STANDARD
TZOFFSETFROM:-0700
TZOFFSETTO:-0800
TZNAME:PST
DTSTART:20201101T090000
END:STANDARD
END:VTIMEZONE
BEGIN:VEVENT
DTSTART;TZID=America/Los_Angeles:20190427T143000
DTEND;TZID=America/Los_Angeles:20190427T180000
DTSTAMP:20260423T172735
CREATED:20190416T191445Z
LAST-MODIFIED:20190416T191445Z
UID:170840-1556375400-1556388000@mtsgreenway.org
SUMMARY:Wine Train Excursion
DESCRIPTION:A unique way to experience the upper Snoqualmie Valley. Join the Northwest Railway Museum for Wine Train excursions featuring Snoqualmie Valley wineries\, food\, music\, and views! \nOur Wine Trains feature a scenic train ride through the Snoqualmie Valley along the Seattle\, Lake Shore & Eastern Railway\, built in 1889. Passengers ride in historic coaches\, gain unique access to Museum collections and exhibits\, and learn how the railroad changed everything. Wine trains include multiple tasting stops with local food and music. Take home your favorite bottle(s) of wine. Each wine is available for purchase in the Snoqualmie Depot Bookstore after your excursion. \nVisitors (21 and older only please) receive a complementary souvenir wine glass with each ticket. \nEvent check in begins at 2:30 at the Snoqualmie Depot. Your train returns to the Snoqualmie Depot at 6 pm. We encourage you to visit any of the Historic Downtown Snoqualmie businesses for food\, shopping\, and more after your excursion.
URL:https://mtsgreenway.org/event/wine-train-excursion/2019-04-27/
LOCATION:Northwest Railway Museum\, 205 E McClellan St\, North Bend\, WA\, 98045\, United States
CATEGORIES:Education
ATTACH;FMTTYPE=image/jpeg:https://ez5in8wrase.exactdn.com/wp-content/uploads/2019/04/30704959_955676384602150_7159774666423271424_n.jpg
GEO:47.4936953;-121.7848836
X-APPLE-STRUCTURED-LOCATION;VALUE=URI;X-ADDRESS=Northwest Railway Museum 205 E McClellan St North Bend WA 98045 United States;X-APPLE-RADIUS=500;X-TITLE=205 E McClellan St:geo:-121.7848836,47.4936953
END:VEVENT
END:VCALENDAR