BEGIN:VCALENDAR
VERSION:2.0
PRODID:-//Mountains To Sound Greenway Trust - ECPv6.15.20//NONSGML v1.0//EN
CALSCALE:GREGORIAN
METHOD:PUBLISH
X-WR-CALNAME:Mountains To Sound Greenway Trust
X-ORIGINAL-URL:https://mtsgreenway.org
X-WR-CALDESC:Events for Mountains To Sound Greenway Trust
REFRESH-INTERVAL;VALUE=DURATION:PT1H
X-Robots-Tag:noindex
X-PUBLISHED-TTL:PT1H
BEGIN:VTIMEZONE
TZID:America/Los_Angeles
BEGIN:DAYLIGHT
TZOFFSETFROM:-0800
TZOFFSETTO:-0700
TZNAME:PDT
DTSTART:20200308T100000
END:DAYLIGHT
BEGIN:STANDARD
TZOFFSETFROM:-0700
TZOFFSETTO:-0800
TZNAME:PST
DTSTART:20201101T090000
END:STANDARD
BEGIN:DAYLIGHT
TZOFFSETFROM:-0800
TZOFFSETTO:-0700
TZNAME:PDT
DTSTART:20210314T100000
END:DAYLIGHT
BEGIN:STANDARD
TZOFFSETFROM:-0700
TZOFFSETTO:-0800
TZNAME:PST
DTSTART:20211107T090000
END:STANDARD
BEGIN:DAYLIGHT
TZOFFSETFROM:-0800
TZOFFSETTO:-0700
TZNAME:PDT
DTSTART:20220313T100000
END:DAYLIGHT
BEGIN:STANDARD
TZOFFSETFROM:-0700
TZOFFSETTO:-0800
TZNAME:PST
DTSTART:20221106T090000
END:STANDARD
END:VTIMEZONE
BEGIN:VEVENT
DTSTART;TZID=America/Los_Angeles:20211030T140000
DTEND;TZID=America/Los_Angeles:20211030T180000
DTSTAMP:20260423T163943
CREATED:20210930T190718Z
LAST-MODIFIED:20210930T191438Z
UID:648564-1635602400-1635616800@mtsgreenway.org
SUMMARY:Trick-Or-Treat Street
DESCRIPTION:Enjoy live music and trick-or-treating in downtown North Bend with your local merchants\, friends and neighbors! Begin your Halloween by trick-or-treating with participating businesses in downtown North Bend. Collect treats\, enjoy LIVE MUSIC and look forward to some spooktacular photo ops! \nBusinesses have many fun tricks and treats planned for you and your family\, and welcome all manner of ghosts\, ghouls\, and other Halloween spirits. \nMany businesses throughout Downtown North Bend will participate. Look for the “Trick-Or-Treat Street” poster that says “Get your Halloween treats here” in storefronts. Stay tuned for a complete listing here. No registration necessary for this free event. Thank you for supporting local small businesses this fall!  \nAttendees will be required to wear masks during this historically well-attended\, free event.
URL:https://mtsgreenway.org/event/trick-or-treat-street/
ATTACH;FMTTYPE=image/png:https://ez5in8wrase.exactdn.com/wp-content/uploads/2021/09/2.png
ORGANIZER;CN="City of North Bend":MAILTO:bkeveren@northbendwa.gov
END:VEVENT
END:VCALENDAR