BEGIN:VCALENDAR
VERSION:2.0
PRODID:-//Mountains To Sound Greenway Trust - ECPv6.15.20//NONSGML v1.0//EN
CALSCALE:GREGORIAN
METHOD:PUBLISH
X-WR-CALNAME:Mountains To Sound Greenway Trust
X-ORIGINAL-URL:https://mtsgreenway.org
X-WR-CALDESC:Events for Mountains To Sound Greenway Trust
REFRESH-INTERVAL;VALUE=DURATION:PT1H
X-Robots-Tag:noindex
X-PUBLISHED-TTL:PT1H
BEGIN:VTIMEZONE
TZID:America/Los_Angeles
BEGIN:DAYLIGHT
TZOFFSETFROM:-0800
TZOFFSETTO:-0700
TZNAME:PDT
DTSTART:20190310T100000
END:DAYLIGHT
BEGIN:STANDARD
TZOFFSETFROM:-0700
TZOFFSETTO:-0800
TZNAME:PST
DTSTART:20191103T090000
END:STANDARD
BEGIN:DAYLIGHT
TZOFFSETFROM:-0800
TZOFFSETTO:-0700
TZNAME:PDT
DTSTART:20200308T100000
END:DAYLIGHT
BEGIN:STANDARD
TZOFFSETFROM:-0700
TZOFFSETTO:-0800
TZNAME:PST
DTSTART:20201101T090000
END:STANDARD
BEGIN:DAYLIGHT
TZOFFSETFROM:-0800
TZOFFSETTO:-0700
TZNAME:PDT
DTSTART:20210314T100000
END:DAYLIGHT
BEGIN:STANDARD
TZOFFSETFROM:-0700
TZOFFSETTO:-0800
TZNAME:PST
DTSTART:20211107T090000
END:STANDARD
END:VTIMEZONE
BEGIN:VEVENT
DTSTART;TZID=America/Los_Angeles:20200614T090000
DTEND;TZID=America/Los_Angeles:20200614T140000
DTSTAMP:20260420T032008
CREATED:20200515T185145Z
LAST-MODIFIED:20200515T185145Z
UID:390714-1592125200-1592143200@mtsgreenway.org
SUMMARY:Treasure Tour: Railroad History in the Watershed
DESCRIPTION:Take a trip back in time with Clay Antieu\, watershed rail historian. This tour seeks out some of the remaining structures\, grades\, and legacies created when railroads were king. Participants must be able to handle about 1 mile of hiking over uneven terrain.
URL:https://mtsgreenway.org/event/treasure-tour-railroad-history-in-the-watershed/
LOCATION:Cedar River Watershed Education Center\, 17905 Cedar Falls Rd SE\, North Bend\, WA\, 98045\, United States
CATEGORIES:Education
ATTACH;FMTTYPE=image/jpeg:https://ez5in8wrase.exactdn.com/wp-content/uploads/2020/05/crw-railroad-tour.jpg
ORGANIZER;CN="Cedar River Watershed Education Center":MAILTO:crwprograms@seattle.gov
GEO:47.4272972;-121.7740381
X-APPLE-STRUCTURED-LOCATION;VALUE=URI;X-ADDRESS=Cedar River Watershed Education Center 17905 Cedar Falls Rd SE North Bend WA 98045 United States;X-APPLE-RADIUS=500;X-TITLE=17905 Cedar Falls Rd SE:geo:-121.7740381,47.4272972
END:VEVENT
END:VCALENDAR