BEGIN:VCALENDAR
VERSION:2.0
PRODID:-//Mountains To Sound Greenway Trust - ECPv6.15.20//NONSGML v1.0//EN
CALSCALE:GREGORIAN
METHOD:PUBLISH
X-WR-CALNAME:Mountains To Sound Greenway Trust
X-ORIGINAL-URL:https://mtsgreenway.org
X-WR-CALDESC:Events for Mountains To Sound Greenway Trust
REFRESH-INTERVAL;VALUE=DURATION:PT1H
X-Robots-Tag:noindex
X-PUBLISHED-TTL:PT1H
BEGIN:VTIMEZONE
TZID:America/Los_Angeles
BEGIN:DAYLIGHT
TZOFFSETFROM:-0800
TZOFFSETTO:-0700
TZNAME:PDT
DTSTART:20250309T100000
END:DAYLIGHT
BEGIN:STANDARD
TZOFFSETFROM:-0700
TZOFFSETTO:-0800
TZNAME:PST
DTSTART:20251102T090000
END:STANDARD
BEGIN:DAYLIGHT
TZOFFSETFROM:-0800
TZOFFSETTO:-0700
TZNAME:PDT
DTSTART:20260308T100000
END:DAYLIGHT
BEGIN:STANDARD
TZOFFSETFROM:-0700
TZOFFSETTO:-0800
TZNAME:PST
DTSTART:20261101T090000
END:STANDARD
BEGIN:DAYLIGHT
TZOFFSETFROM:-0800
TZOFFSETTO:-0700
TZNAME:PDT
DTSTART:20270314T100000
END:DAYLIGHT
BEGIN:STANDARD
TZOFFSETFROM:-0700
TZOFFSETTO:-0800
TZNAME:PST
DTSTART:20271107T090000
END:STANDARD
END:VTIMEZONE
BEGIN:VEVENT
DTSTART;TZID=America/Los_Angeles:20260620T100000
DTEND;TZID=America/Los_Angeles:20260620T140000
DTSTAMP:20260422T053049
CREATED:20260421T194209Z
LAST-MODIFIED:20260421T194914Z
UID:1749943-1781949600-1781964000@mtsgreenway.org
SUMMARY:Trail Work for Trail Fest
DESCRIPTION:Join us as we continue the construction and finishing work on the new Windy Ridge Trail in the Teanaway Community Forest. This work party is part of a larger event – the Teanaway Trail Fest Fundraiser – that takes place at Dru Bru from 3pm-7pm. Volunteers will receive a free drink token and are invited to join the festivities afterwards. More information here: Teanaway Trail Fest – Dru Bru
URL:https://mtsgreenway.org/event/trail-work-for-trail-fest/
CATEGORIES:Trails,Volunteer
ATTACH;FMTTYPE=image/jpeg:https://ez5in8wrase.exactdn.com/wp-content/uploads/2026/04/IMG_0448-2-e1776800627771.jpeg
END:VEVENT
END:VCALENDAR