BEGIN:VCALENDAR
VERSION:2.0
PRODID:-//Mountains To Sound Greenway Trust - ECPv6.15.20//NONSGML v1.0//EN
CALSCALE:GREGORIAN
METHOD:PUBLISH
X-WR-CALNAME:Mountains To Sound Greenway Trust
X-ORIGINAL-URL:https://mtsgreenway.org
X-WR-CALDESC:Events for Mountains To Sound Greenway Trust
REFRESH-INTERVAL;VALUE=DURATION:PT1H
X-Robots-Tag:noindex
X-PUBLISHED-TTL:PT1H
BEGIN:VTIMEZONE
TZID:America/Los_Angeles
BEGIN:DAYLIGHT
TZOFFSETFROM:-0800
TZOFFSETTO:-0700
TZNAME:PDT
DTSTART:20180311T100000
END:DAYLIGHT
BEGIN:STANDARD
TZOFFSETFROM:-0700
TZOFFSETTO:-0800
TZNAME:PST
DTSTART:20181104T090000
END:STANDARD
BEGIN:DAYLIGHT
TZOFFSETFROM:-0800
TZOFFSETTO:-0700
TZNAME:PDT
DTSTART:20190310T100000
END:DAYLIGHT
BEGIN:STANDARD
TZOFFSETFROM:-0700
TZOFFSETTO:-0800
TZNAME:PST
DTSTART:20191103T090000
END:STANDARD
BEGIN:DAYLIGHT
TZOFFSETFROM:-0800
TZOFFSETTO:-0700
TZNAME:PDT
DTSTART:20200308T100000
END:DAYLIGHT
BEGIN:STANDARD
TZOFFSETFROM:-0700
TZOFFSETTO:-0800
TZNAME:PST
DTSTART:20201101T090000
END:STANDARD
END:VTIMEZONE
BEGIN:VEVENT
DTSTART;TZID=America/Los_Angeles:20191125T070000
DTEND;TZID=America/Los_Angeles:20191125T170000
DTSTAMP:20260424T103601
CREATED:20191105T233302Z
LAST-MODIFIED:20191105T233302Z
UID:282337-1574665200-1574701200@mtsgreenway.org
SUMMARY:Samish/Skagit Flats Bird Walk
DESCRIPTION:November can be an excellent time for raptors and waterfowl in the Samish/Skagit Flats. We will get an early start to explore the area. We will be looking for hawks\, falcons\, eagles and harriers\, as well as ponded fields with waterfowl (we will hope for a Eurasian Wigeon in with the American Wigeons). We will also be looking for Passerines\, and maybe a Northern Shrike. Come prepared for possible wet/windy weather. Bring scopes\, lunch\, fluids and a Discover Pass. \nCarpool $20 per passenger. Call Brian to reserve your spot – 425-485-8058. If you need to contact Brian the morning of the trip only call 206-619-0379. \nWe will meet at the North end of the Kingsgate P&R at 7:00 AM. Limit 11 in three cars.
URL:https://mtsgreenway.org/event/samish-skagit-flats-bird-walk/
LOCATION:Kingsgate Park & Ride\, 13001 116th Way NE\, Kirkland\, 98034
CATEGORIES:Outdoor Recreation
ATTACH;FMTTYPE=image/jpeg:https://ez5in8wrase.exactdn.com/wp-content/uploads/2019/10/24463826581_dcbf2f7117_k.jpg
ORGANIZER;CN="Eastside Audubon Society":MAILTO:office@eastsideaudubon.org
GEO:47.7162452;-122.1879202
X-APPLE-STRUCTURED-LOCATION;VALUE=URI;X-ADDRESS=Kingsgate Park & Ride 13001 116th Way NE Kirkland 98034;X-APPLE-RADIUS=500;X-TITLE=13001 116th Way NE:geo:-122.1879202,47.7162452
END:VEVENT
END:VCALENDAR