BEGIN:VCALENDAR
VERSION:2.0
PRODID:-//Mountains To Sound Greenway Trust - ECPv6.15.20//NONSGML v1.0//EN
CALSCALE:GREGORIAN
METHOD:PUBLISH
X-WR-CALNAME:Mountains To Sound Greenway Trust
X-ORIGINAL-URL:https://mtsgreenway.org
X-WR-CALDESC:Events for Mountains To Sound Greenway Trust
REFRESH-INTERVAL;VALUE=DURATION:PT1H
X-Robots-Tag:noindex
X-PUBLISHED-TTL:PT1H
BEGIN:VTIMEZONE
TZID:America/Los_Angeles
BEGIN:DAYLIGHT
TZOFFSETFROM:-0800
TZOFFSETTO:-0700
TZNAME:PDT
DTSTART:20170312T100000
END:DAYLIGHT
BEGIN:STANDARD
TZOFFSETFROM:-0700
TZOFFSETTO:-0800
TZNAME:PST
DTSTART:20171105T090000
END:STANDARD
BEGIN:DAYLIGHT
TZOFFSETFROM:-0800
TZOFFSETTO:-0700
TZNAME:PDT
DTSTART:20180311T100000
END:DAYLIGHT
BEGIN:STANDARD
TZOFFSETFROM:-0700
TZOFFSETTO:-0800
TZNAME:PST
DTSTART:20181104T090000
END:STANDARD
BEGIN:DAYLIGHT
TZOFFSETFROM:-0800
TZOFFSETTO:-0700
TZNAME:PDT
DTSTART:20190310T100000
END:DAYLIGHT
BEGIN:STANDARD
TZOFFSETFROM:-0700
TZOFFSETTO:-0800
TZNAME:PST
DTSTART:20191103T090000
END:STANDARD
END:VTIMEZONE
BEGIN:VEVENT
DTSTART;TZID=America/Los_Angeles:20181006T100000
DTEND;TZID=America/Los_Angeles:20181006T140000
DTSTAMP:20260420T232734
CREATED:20180821T190550Z
LAST-MODIFIED:20181102T232823Z
UID:76781-1538820000-1538834400@mtsgreenway.org
SUMMARY:Restoration at Meadowbrook Slough: Green Snoqualmie Day
DESCRIPTION:Join us as we help to celebrate Green Snoqualmie Day! With sweeping views of Mount Si and Rattlesnake Mountain\, the Three Forks Natural Area includes over five miles of riverfront with juvenile trout habitat\, and serves as a sanctuary and corridor for a broad range of wildlife including black bear\, elk\, cougar\, eagle\, deer\, and river otter. Meadowbrook Slough\, one of the most notable wetlands in Three Forks Natural Area\, has suffered degradation through the introduction of invasive plants such as Himalayan blackberry and Japanese knotweed. These plants do not provide needed shelter for wildlife and fish and their competition jeopardizes the health of native vegetation. Volunteers have worked hard over the past years to remove these invasive species and replace them with native vegetation. Volunteers will be a part of multiple projects\, such as invasive species removal and planting native species! 
URL:https://mtsgreenway.org/event/restoration-at-meadowbrook-slough-green-snoqualmie-day/
CATEGORIES:Greenway Event,Volunteer
ATTACH;FMTTYPE=image/jpeg:https://ez5in8wrase.exactdn.com/wp-content/uploads/2018/08/Greenchop9_planting_2012.jpg
END:VEVENT
END:VCALENDAR