BEGIN:VCALENDAR
VERSION:2.0
PRODID:-//Mountains To Sound Greenway Trust - ECPv6.15.20//NONSGML v1.0//EN
CALSCALE:GREGORIAN
METHOD:PUBLISH
X-WR-CALNAME:Mountains To Sound Greenway Trust
X-ORIGINAL-URL:https://mtsgreenway.org
X-WR-CALDESC:Events for Mountains To Sound Greenway Trust
REFRESH-INTERVAL;VALUE=DURATION:PT1H
X-Robots-Tag:noindex
X-PUBLISHED-TTL:PT1H
BEGIN:VTIMEZONE
TZID:America/Los_Angeles
BEGIN:DAYLIGHT
TZOFFSETFROM:-0800
TZOFFSETTO:-0700
TZNAME:PDT
DTSTART:20180311T100000
END:DAYLIGHT
BEGIN:STANDARD
TZOFFSETFROM:-0700
TZOFFSETTO:-0800
TZNAME:PST
DTSTART:20181104T090000
END:STANDARD
BEGIN:DAYLIGHT
TZOFFSETFROM:-0800
TZOFFSETTO:-0700
TZNAME:PDT
DTSTART:20190310T100000
END:DAYLIGHT
BEGIN:STANDARD
TZOFFSETFROM:-0700
TZOFFSETTO:-0800
TZNAME:PST
DTSTART:20191103T090000
END:STANDARD
BEGIN:DAYLIGHT
TZOFFSETFROM:-0800
TZOFFSETTO:-0700
TZNAME:PDT
DTSTART:20200308T100000
END:DAYLIGHT
BEGIN:STANDARD
TZOFFSETFROM:-0700
TZOFFSETTO:-0800
TZNAME:PST
DTSTART:20201101T090000
END:STANDARD
END:VTIMEZONE
BEGIN:VEVENT
DTSTART;TZID=America/Los_Angeles:20191116T100000
DTEND;TZID=America/Los_Angeles:20191116T140000
DTSTAMP:20260422T071450
CREATED:20190826T205832Z
LAST-MODIFIED:20200131T220612Z
UID:247493-1573898400-1573912800@mtsgreenway.org
SUMMARY:One Million Trees Celebration with Green Issaquah
DESCRIPTION:Come help the City of Issaquah contribute to planting one million trees in King County by 2020! \nAs part of the Green Issaquah Partnership\, the Mountains to Sound Greenway Trust and the City of Issaquah are teaming up with King County to plant one million trees. We will be planting trees at Sammamish Cove\, a former dairy farm adjacent to Lake Sammamish State Park. Sammamish Cove borders Tibbetts Creek\, a salmon-bearing stream\, to the Northeast. Boasting sweeping views of the Issaquah Alps\, the area has been overwhelmed by invasive weeds. Greenway Trust volunteers have worked hard to remove these invasive weeds along the creek. Volunteers have also planted over two thousand native plants and shrubs in this area. Additonally\, a half mile mulched loop trail was completed in 2019\, all by volunteers. All said\, volunteers have had a huge impact on this important area\, and we are excited to have you join in on these continued efforts. Volunteers will be planting trees\, clearing invasive weeds from any baby plantings\, and watching a young forest grow! 
URL:https://mtsgreenway.org/event/one-million-trees-celebration-with-green-issaquah/
CATEGORIES:Greenway Event,Volunteer
ATTACH;FMTTYPE=image/jpeg:https://ez5in8wrase.exactdn.com/wp-content/uploads/2019/08/Tree-Planting-Celebration_10.14.17_Sammamish-Cove_credit-Ray-Lapine-31.jpg
END:VEVENT
END:VCALENDAR