BEGIN:VCALENDAR
VERSION:2.0
PRODID:-//Mountains To Sound Greenway Trust - ECPv6.15.20//NONSGML v1.0//EN
CALSCALE:GREGORIAN
METHOD:PUBLISH
X-WR-CALNAME:Mountains To Sound Greenway Trust
X-ORIGINAL-URL:https://mtsgreenway.org
X-WR-CALDESC:Events for Mountains To Sound Greenway Trust
REFRESH-INTERVAL;VALUE=DURATION:PT1H
X-Robots-Tag:noindex
X-PUBLISHED-TTL:PT1H
BEGIN:VTIMEZONE
TZID:America/Los_Angeles
BEGIN:DAYLIGHT
TZOFFSETFROM:-0800
TZOFFSETTO:-0700
TZNAME:PDT
DTSTART:20200308T100000
END:DAYLIGHT
BEGIN:STANDARD
TZOFFSETFROM:-0700
TZOFFSETTO:-0800
TZNAME:PST
DTSTART:20201101T090000
END:STANDARD
BEGIN:DAYLIGHT
TZOFFSETFROM:-0800
TZOFFSETTO:-0700
TZNAME:PDT
DTSTART:20210314T100000
END:DAYLIGHT
BEGIN:STANDARD
TZOFFSETFROM:-0700
TZOFFSETTO:-0800
TZNAME:PST
DTSTART:20211107T090000
END:STANDARD
BEGIN:DAYLIGHT
TZOFFSETFROM:-0800
TZOFFSETTO:-0700
TZNAME:PDT
DTSTART:20220313T100000
END:DAYLIGHT
BEGIN:STANDARD
TZOFFSETFROM:-0700
TZOFFSETTO:-0800
TZNAME:PST
DTSTART:20221106T090000
END:STANDARD
END:VTIMEZONE
BEGIN:VEVENT
DTSTART;TZID=America/Los_Angeles:20210118T100000
DTEND;TZID=America/Los_Angeles:20210118T140000
DTSTAMP:20260420T233000
CREATED:20210107T162834Z
LAST-MODIFIED:20210113T223430Z
UID:514916-1610964000-1610978400@mtsgreenway.org
SUMMARY:MLK Day of Service 2021
DESCRIPTION:This Martin Luther King Jr. (MLK) Day we are encouraging individual stewardship actions! Like all MLK Days before this\, let’s make Monday\, January 18th a “day on\, not a day off.” \nTo help out while your out\, join us in giving back to public lands by cleaning up litter. You can see how to do so appropriately by checking out our Clean Up Guide. \nTag us on social media (Facebook\, Twitter\, Instagram) with your trash haul pics so we can share them! Not on social? You can send photos to Katy Yeh at katy.yeh@mtsgreenway.org.
URL:https://mtsgreenway.org/event/mlk-day-of-service-2021/
CATEGORIES:Greenway Event,Volunteer
ATTACH;FMTTYPE=image/jpeg:https://ez5in8wrase.exactdn.com/wp-content/uploads/2020/09/DSC_0563-1-scaled.jpg
END:VEVENT
END:VCALENDAR