BEGIN:VCALENDAR
VERSION:2.0
PRODID:-//Mountains To Sound Greenway Trust - ECPv6.15.20//NONSGML v1.0//EN
CALSCALE:GREGORIAN
METHOD:PUBLISH
X-WR-CALNAME:Mountains To Sound Greenway Trust
X-ORIGINAL-URL:https://mtsgreenway.org
X-WR-CALDESC:Events for Mountains To Sound Greenway Trust
REFRESH-INTERVAL;VALUE=DURATION:PT1H
X-Robots-Tag:noindex
X-PUBLISHED-TTL:PT1H
BEGIN:VTIMEZONE
TZID:America/Los_Angeles
BEGIN:DAYLIGHT
TZOFFSETFROM:-0800
TZOFFSETTO:-0700
TZNAME:PDT
DTSTART:20180311T100000
END:DAYLIGHT
BEGIN:STANDARD
TZOFFSETFROM:-0700
TZOFFSETTO:-0800
TZNAME:PST
DTSTART:20181104T090000
END:STANDARD
BEGIN:DAYLIGHT
TZOFFSETFROM:-0800
TZOFFSETTO:-0700
TZNAME:PDT
DTSTART:20190310T100000
END:DAYLIGHT
BEGIN:STANDARD
TZOFFSETFROM:-0700
TZOFFSETTO:-0800
TZNAME:PST
DTSTART:20191103T090000
END:STANDARD
BEGIN:DAYLIGHT
TZOFFSETFROM:-0800
TZOFFSETTO:-0700
TZNAME:PDT
DTSTART:20200308T100000
END:DAYLIGHT
BEGIN:STANDARD
TZOFFSETFROM:-0700
TZOFFSETTO:-0800
TZNAME:PST
DTSTART:20201101T090000
END:STANDARD
END:VTIMEZONE
BEGIN:VEVENT
DTSTART;TZID=America/Los_Angeles:20190108T100000
DTEND;TZID=America/Los_Angeles:20190108T110000
DTSTAMP:20260419T093154
CREATED:20181215T005646Z
LAST-MODIFIED:20181215T005646Z
UID:110006-1546941600-1546945200@mtsgreenway.org
SUMMARY:Mini Mountaineers Seattle
DESCRIPTION:Mini Mountaineers is designed to get kiddos ages 2-5 and an accompanying adult interacting with nature together\, fostering a love for the outdoors in the next generation. Parents\, grandparents\, aunts\, uncles\, babysitters\, friends…let us do the planning to get you and your little one outside together with fellow outdoorsy families! \nWe host two events a month during the school year\, a meet up for a nature walk and a hands-on nature-based activity at the Seattle Program Center. The second Tuesday of each month we meet up at a Seattle park and enjoy a nature walk together. We will listen for birds\, splash in a creek\, play in the sand\, look for bugs\,…and enjoy being surrounded by nature! \nThe last Tuesday of each month we host an activity here at The Mountaineers Seattle Program Center. We have a different educational theme each month\, such as leaves falling\, snow\, and colors in nature. Join us for activities\, crafts\, and stories relating to each theme to make learning fun. \nAlthough times might fluctuate\, especially on Meet Ups\, expect all Mini Mountaineers events to start at 10am and run for one hour. \nDates and Locations: \nJanuary 8: Meet Up – Carkeek Park (Please meet at the Carkeek Park Playground 10am.) \nJanuary 22: Activity – Let it Snow (Please meet in the lobby of the Seattle Program Center at 10am.) \nFebruary 12: Meet Up – Seward Park (Please meet at 10am at the Seward Park Environmental & Audubon Center. ) \nFebruary 26: Activity – Colors in Nature (Please meet in the lobby of the Seattle Program Center at 10am.) \nMarch 12: Meet Up – Cowen and Ravenna Park (Please meet at 10am at the Ravenna Park Picnic Shelter.) \nMarch 26: Activity – Rocks Rock (Please meet in the lobby of the Seattle Program Center at 10am.)
URL:https://mtsgreenway.org/event/mini-mountaineers-seattle/2019-01-08/
ATTACH;FMTTYPE=image/jpeg:https://ez5in8wrase.exactdn.com/wp-content/uploads/2018/12/July-2008-005-Copy.jpg
ORGANIZER;CN="The Mountaineers":MAILTO:info@mountaineers.org
END:VEVENT
END:VCALENDAR