BEGIN:VCALENDAR
VERSION:2.0
PRODID:-//Mountains To Sound Greenway Trust - ECPv6.15.20//NONSGML v1.0//EN
CALSCALE:GREGORIAN
METHOD:PUBLISH
X-WR-CALNAME:Mountains To Sound Greenway Trust
X-ORIGINAL-URL:https://mtsgreenway.org
X-WR-CALDESC:Events for Mountains To Sound Greenway Trust
REFRESH-INTERVAL;VALUE=DURATION:PT1H
X-Robots-Tag:noindex
X-PUBLISHED-TTL:PT1H
BEGIN:VTIMEZONE
TZID:America/Los_Angeles
BEGIN:DAYLIGHT
TZOFFSETFROM:-0800
TZOFFSETTO:-0700
TZNAME:PDT
DTSTART:20190310T100000
END:DAYLIGHT
BEGIN:STANDARD
TZOFFSETFROM:-0700
TZOFFSETTO:-0800
TZNAME:PST
DTSTART:20191103T090000
END:STANDARD
BEGIN:DAYLIGHT
TZOFFSETFROM:-0800
TZOFFSETTO:-0700
TZNAME:PDT
DTSTART:20200308T100000
END:DAYLIGHT
BEGIN:STANDARD
TZOFFSETFROM:-0700
TZOFFSETTO:-0800
TZNAME:PST
DTSTART:20201101T090000
END:STANDARD
BEGIN:DAYLIGHT
TZOFFSETFROM:-0800
TZOFFSETTO:-0700
TZNAME:PDT
DTSTART:20210314T100000
END:DAYLIGHT
BEGIN:STANDARD
TZOFFSETFROM:-0700
TZOFFSETTO:-0800
TZNAME:PST
DTSTART:20211107T090000
END:STANDARD
END:VTIMEZONE
BEGIN:VEVENT
DTSTART;TZID=America/Los_Angeles:20200721T113000
DTEND;TZID=America/Los_Angeles:20200721T123000
DTSTAMP:20260421T030155
CREATED:20200716T212251Z
LAST-MODIFIED:20200716T215011Z
UID:423406-1595331000-1595334600@mtsgreenway.org
SUMMARY:Mikey the Rad Scientist Facebook Livestream
DESCRIPTION:Mikey livestreams science and nature music for all ages – Tuesdays and Fridays this summer at 11:30 a.m. Pacific.
URL:https://mtsgreenway.org/event/mikey-the-rad-scientist-facebook-livestream/2020-07-21/
CATEGORIES:Education
ATTACH;FMTTYPE=image/jpeg:https://ez5in8wrase.exactdn.com/wp-content/uploads/2020/07/Mikey-the-Rad-Scientist-e1594935783984.jpg
END:VEVENT
END:VCALENDAR