BEGIN:VCALENDAR
VERSION:2.0
PRODID:-//Mountains To Sound Greenway Trust - ECPv6.15.20//NONSGML v1.0//EN
CALSCALE:GREGORIAN
METHOD:PUBLISH
X-WR-CALNAME:Mountains To Sound Greenway Trust
X-ORIGINAL-URL:https://mtsgreenway.org
X-WR-CALDESC:Events for Mountains To Sound Greenway Trust
REFRESH-INTERVAL;VALUE=DURATION:PT1H
X-Robots-Tag:noindex
X-PUBLISHED-TTL:PT1H
BEGIN:VTIMEZONE
TZID:America/Los_Angeles
BEGIN:DAYLIGHT
TZOFFSETFROM:-0800
TZOFFSETTO:-0700
TZNAME:PDT
DTSTART:20190310T100000
END:DAYLIGHT
BEGIN:STANDARD
TZOFFSETFROM:-0700
TZOFFSETTO:-0800
TZNAME:PST
DTSTART:20191103T090000
END:STANDARD
BEGIN:DAYLIGHT
TZOFFSETFROM:-0800
TZOFFSETTO:-0700
TZNAME:PDT
DTSTART:20200308T100000
END:DAYLIGHT
BEGIN:STANDARD
TZOFFSETFROM:-0700
TZOFFSETTO:-0800
TZNAME:PST
DTSTART:20201101T090000
END:STANDARD
BEGIN:DAYLIGHT
TZOFFSETFROM:-0800
TZOFFSETTO:-0700
TZNAME:PDT
DTSTART:20210314T100000
END:DAYLIGHT
BEGIN:STANDARD
TZOFFSETFROM:-0700
TZOFFSETTO:-0800
TZNAME:PST
DTSTART:20211107T090000
END:STANDARD
END:VTIMEZONE
BEGIN:VEVENT
DTSTART;VALUE=DATE:20200513
DTEND;VALUE=DATE:20200514
DTSTAMP:20260424T070739
CREATED:20200513T222427Z
LAST-MODIFIED:20200513T222427Z
UID:389550-1589328000-1589414399@mtsgreenway.org
SUMMARY:MicroVenture Weekly Activity with SheJumps
DESCRIPTION:In a time when we are physically separated from loved ones and negotiating new realities\, SJ Micro Ventures will help participants connect to nature through accessible activities. Whether Micro Ventures become a part of the “new normal” routine\, or they’re saved for later\, these activities will be relevant to all demographics and living situations–from the city to the mountains. \nEach activity will be posted on the SheJumps blog and presented as a PDF with instructions. During this time when gathering physically together is not an option\, those participating in the activities will be encouraged to share their results on social media by tagging @SheJumps and using #SJMicroVentures\, creating a digital community where participants can learn from each other’s adventures and connect through nature. \nEditor’s note: These activities are available to view and complete at any time. New activities are released every Wednesday.
URL:https://mtsgreenway.org/event/microventure-weekly-activity-with-shejumps/2020-05-13/
CATEGORIES:Education
ATTACH;FMTTYPE=image/jpeg:https://ez5in8wrase.exactdn.com/wp-content/uploads/2020/05/MicroVenture-with-SheJumps.jpg
END:VEVENT
END:VCALENDAR