BEGIN:VCALENDAR
VERSION:2.0
PRODID:-//Mountains To Sound Greenway Trust - ECPv6.15.20//NONSGML v1.0//EN
CALSCALE:GREGORIAN
METHOD:PUBLISH
X-WR-CALNAME:Mountains To Sound Greenway Trust
X-ORIGINAL-URL:https://mtsgreenway.org
X-WR-CALDESC:Events for Mountains To Sound Greenway Trust
REFRESH-INTERVAL;VALUE=DURATION:PT1H
X-Robots-Tag:noindex
X-PUBLISHED-TTL:PT1H
BEGIN:VTIMEZONE
TZID:America/Los_Angeles
BEGIN:DAYLIGHT
TZOFFSETFROM:-0800
TZOFFSETTO:-0700
TZNAME:PDT
DTSTART:20180311T100000
END:DAYLIGHT
BEGIN:STANDARD
TZOFFSETFROM:-0700
TZOFFSETTO:-0800
TZNAME:PST
DTSTART:20181104T090000
END:STANDARD
BEGIN:DAYLIGHT
TZOFFSETFROM:-0800
TZOFFSETTO:-0700
TZNAME:PDT
DTSTART:20190310T100000
END:DAYLIGHT
BEGIN:STANDARD
TZOFFSETFROM:-0700
TZOFFSETTO:-0800
TZNAME:PST
DTSTART:20191103T090000
END:STANDARD
BEGIN:DAYLIGHT
TZOFFSETFROM:-0800
TZOFFSETTO:-0700
TZNAME:PDT
DTSTART:20200308T100000
END:DAYLIGHT
BEGIN:STANDARD
TZOFFSETFROM:-0700
TZOFFSETTO:-0800
TZNAME:PST
DTSTART:20201101T090000
END:STANDARD
END:VTIMEZONE
BEGIN:VEVENT
DTSTART;TZID=America/Los_Angeles:20191019T100000
DTEND;TZID=America/Los_Angeles:20191019T140000
DTSTAMP:20260425T180301
CREATED:20190808T175943Z
LAST-MODIFIED:20191115T052013Z
UID:237818-1571479200-1571493600@mtsgreenway.org
SUMMARY:Mercer Island Arbor Day 2019
DESCRIPTION:Come celebrate the City of Mercer Island’s Arbor Day! Come plant a tree on the Island and partake in a fun day in habitat restoration with Mercer Island Parks and Recreation and the Mountains to Sound Greenway Trust. \nHomestead Park is 11.1 acres of forested open space that includes ballfields\, a playground and tennis and basketball courts. The park’s urban forest and wetland help to purify stormwater runoff to improve water quality\, contributing to the important ecological function of this park. Currently\, Homestead Park is heavily invaded by invasive weed species – ivy\, holly\, Himalayan blackberry – and is in need of restoration efforts. Volunteers will work together on Arbor Day to enhance this site\, plant native trees and shrubs\, and enjoy the park together. \nSign up today! This event is perfect for volunteers of all ages and abilities\, all training provided and no experience necessary. Lunch and small refreshments will be provided to volunteers.
URL:https://mtsgreenway.org/event/mercer-island-arbor-day-2019/
CATEGORIES:Greenway Event,Volunteer
ATTACH;FMTTYPE=image/jpeg:https://ez5in8wrase.exactdn.com/wp-content/uploads/2019/08/2018-Tree-Planting-Celebration_Low_Res_Credit_Rosanna_Jensen-27.jpg
END:VEVENT
END:VCALENDAR