BEGIN:VCALENDAR
VERSION:2.0
PRODID:-//Mountains To Sound Greenway Trust - ECPv6.15.20//NONSGML v1.0//EN
CALSCALE:GREGORIAN
METHOD:PUBLISH
X-WR-CALNAME:Mountains To Sound Greenway Trust
X-ORIGINAL-URL:https://mtsgreenway.org
X-WR-CALDESC:Events for Mountains To Sound Greenway Trust
REFRESH-INTERVAL;VALUE=DURATION:PT1H
X-Robots-Tag:noindex
X-PUBLISHED-TTL:PT1H
BEGIN:VTIMEZONE
TZID:America/Los_Angeles
BEGIN:DAYLIGHT
TZOFFSETFROM:-0800
TZOFFSETTO:-0700
TZNAME:PDT
DTSTART:20170312T100000
END:DAYLIGHT
BEGIN:STANDARD
TZOFFSETFROM:-0700
TZOFFSETTO:-0800
TZNAME:PST
DTSTART:20171105T090000
END:STANDARD
BEGIN:DAYLIGHT
TZOFFSETFROM:-0800
TZOFFSETTO:-0700
TZNAME:PDT
DTSTART:20180311T100000
END:DAYLIGHT
BEGIN:STANDARD
TZOFFSETFROM:-0700
TZOFFSETTO:-0800
TZNAME:PST
DTSTART:20181104T090000
END:STANDARD
BEGIN:DAYLIGHT
TZOFFSETFROM:-0800
TZOFFSETTO:-0700
TZNAME:PDT
DTSTART:20190310T100000
END:DAYLIGHT
BEGIN:STANDARD
TZOFFSETFROM:-0700
TZOFFSETTO:-0800
TZNAME:PST
DTSTART:20191103T090000
END:STANDARD
END:VTIMEZONE
BEGIN:VEVENT
DTSTART;TZID=America/Los_Angeles:20180203T100000
DTEND;TZID=America/Los_Angeles:20180203T140000
DTSTAMP:20260421T162144
CREATED:20171208T010352Z
LAST-MODIFIED:20250724T153814Z
UID:73927-1517652000-1517666400@mtsgreenway.org
SUMMARY:Tree Potting at our Native Plant Nursery
DESCRIPTION:
URL:https://mtsgreenway.org/event/maintenance-at-our-native-plant-nursery-3/
CATEGORIES:Greenway Event,Volunteer
ATTACH;FMTTYPE=image/jpeg:https://ez5in8wrase.exactdn.com/wp-content/uploads/2017/12/020312NativePlant2WEB.jpg
END:VEVENT
END:VCALENDAR