BEGIN:VCALENDAR
VERSION:2.0
PRODID:-//Mountains To Sound Greenway Trust - ECPv6.15.20//NONSGML v1.0//EN
CALSCALE:GREGORIAN
METHOD:PUBLISH
X-WR-CALNAME:Mountains To Sound Greenway Trust
X-ORIGINAL-URL:https://mtsgreenway.org
X-WR-CALDESC:Events for Mountains To Sound Greenway Trust
REFRESH-INTERVAL;VALUE=DURATION:PT1H
X-Robots-Tag:noindex
X-PUBLISHED-TTL:PT1H
BEGIN:VTIMEZONE
TZID:America/Los_Angeles
BEGIN:DAYLIGHT
TZOFFSETFROM:-0800
TZOFFSETTO:-0700
TZNAME:PDT
DTSTART:20200308T100000
END:DAYLIGHT
BEGIN:STANDARD
TZOFFSETFROM:-0700
TZOFFSETTO:-0800
TZNAME:PST
DTSTART:20201101T090000
END:STANDARD
BEGIN:DAYLIGHT
TZOFFSETFROM:-0800
TZOFFSETTO:-0700
TZNAME:PDT
DTSTART:20210314T100000
END:DAYLIGHT
BEGIN:STANDARD
TZOFFSETFROM:-0700
TZOFFSETTO:-0800
TZNAME:PST
DTSTART:20211107T090000
END:STANDARD
BEGIN:DAYLIGHT
TZOFFSETFROM:-0800
TZOFFSETTO:-0700
TZNAME:PDT
DTSTART:20220313T100000
END:DAYLIGHT
BEGIN:STANDARD
TZOFFSETFROM:-0700
TZOFFSETTO:-0800
TZNAME:PST
DTSTART:20221106T090000
END:STANDARD
END:VTIMEZONE
BEGIN:VEVENT
DTSTART;TZID=America/Los_Angeles:20210310T080000
DTEND;TZID=America/Los_Angeles:20210310T170000
DTSTAMP:20260425T173030
CREATED:20210312T012132Z
LAST-MODIFIED:20210312T012132Z
UID:548498-1615363200-1615395600@mtsgreenway.org
SUMMARY:Lightning Talks: Sea Otters
DESCRIPTION:Mark your calendars for our next virtual Lightning Talks event\, this one focused on fan favorites: sea otters! \nJoin us to learn more about these adorable\, furry (did you know sea otters have the densest fur of any animal in the world?)\, shellfish-loving marine mammals as otter enthusiasts share their knowledge and enthusiasm during a series of five-minute talks. They’ll dive into topics like sea otters’ connection to climate change and what that tells us—and more! You’re sure to come away even more charmed by sea otters than you were before. \nRegistration will close at 4pm PST on April 22. By registering\, you’ll receive a direct link to the broadcast after 4pm on the day of the event.
URL:https://mtsgreenway.org/event/lightning-talks-sea-otters/
LOCATION:Online\, Utilitarian Conferences Gathering\, London\, E16 2DQ
CATEGORIES:Education
ATTACH;FMTTYPE=image/jpeg:https://ez5in8wrase.exactdn.com/wp-content/uploads/2021/03/Sea-Otters.jpg
GEO:37.09024;-95.712891
X-APPLE-STRUCTURED-LOCATION;VALUE=URI;X-ADDRESS=Online Utilitarian Conferences Gathering London E16 2DQ;X-APPLE-RADIUS=500;X-TITLE=Utilitarian Conferences Gathering:geo:-95.712891,37.09024
END:VEVENT
END:VCALENDAR