BEGIN:VCALENDAR
VERSION:2.0
PRODID:-//Mountains To Sound Greenway Trust - ECPv6.15.20//NONSGML v1.0//EN
CALSCALE:GREGORIAN
METHOD:PUBLISH
X-WR-CALNAME:Mountains To Sound Greenway Trust
X-ORIGINAL-URL:https://mtsgreenway.org
X-WR-CALDESC:Events for Mountains To Sound Greenway Trust
REFRESH-INTERVAL;VALUE=DURATION:PT1H
X-Robots-Tag:noindex
X-PUBLISHED-TTL:PT1H
BEGIN:VTIMEZONE
TZID:America/Los_Angeles
BEGIN:DAYLIGHT
TZOFFSETFROM:-0800
TZOFFSETTO:-0700
TZNAME:PDT
DTSTART:20180311T100000
END:DAYLIGHT
BEGIN:STANDARD
TZOFFSETFROM:-0700
TZOFFSETTO:-0800
TZNAME:PST
DTSTART:20181104T090000
END:STANDARD
BEGIN:DAYLIGHT
TZOFFSETFROM:-0800
TZOFFSETTO:-0700
TZNAME:PDT
DTSTART:20190310T100000
END:DAYLIGHT
BEGIN:STANDARD
TZOFFSETFROM:-0700
TZOFFSETTO:-0800
TZNAME:PST
DTSTART:20191103T090000
END:STANDARD
BEGIN:DAYLIGHT
TZOFFSETFROM:-0800
TZOFFSETTO:-0700
TZNAME:PDT
DTSTART:20200308T100000
END:DAYLIGHT
BEGIN:STANDARD
TZOFFSETFROM:-0700
TZOFFSETTO:-0800
TZNAME:PST
DTSTART:20201101T090000
END:STANDARD
END:VTIMEZONE
BEGIN:VEVENT
DTSTART;TZID=America/Los_Angeles:20190326T183000
DTEND;TZID=America/Los_Angeles:20190326T200000
DTSTAMP:20260421T062340
CREATED:20190322T040154Z
LAST-MODIFIED:20190322T040154Z
UID:163144-1553625000-1553630400@mtsgreenway.org
SUMMARY:Hiking with Dogs
DESCRIPTION:Join REI staff to learn about the basics of hiking with dogs. This class will help you plan a successful hike for you and your canine companion. We’ll review where to go\, what to bring for you and your pup\, and what you may encounter on the trail. We’ll talk about where to find dog-friendly parks – local\, state-wide and nationally. Having the right equipment is critical\, so we’ll discuss gear\, as well as safety and comfort items you’ll need to bring along to make a safe\, enjoyable hike for both you and your dog. Learn how to travel on trails with your dog in a way that makes the least impact on the natural area\, including wildlife. Attendees are encouraged to bring all of their hiking with dogs questions\, but unfortunately due to classroom constraints\, we ask that you do not bring your non-service animals.
URL:https://mtsgreenway.org/event/hiking-with-dogs/2019-03-26/
LOCATION:REI-Issaquah\, 735 Northwest Gilman Boulevard\, Issaquah\, 98027
CATEGORIES:Education,Outdoor Recreation
ATTACH;FMTTYPE=image/jpeg:https://ez5in8wrase.exactdn.com/wp-content/uploads/2019/03/willow.jpg
GEO:47.5414168;-122.0481589
X-APPLE-STRUCTURED-LOCATION;VALUE=URI;X-ADDRESS=REI-Issaquah 735 Northwest Gilman Boulevard Issaquah 98027;X-APPLE-RADIUS=500;X-TITLE=735 Northwest Gilman Boulevard:geo:-122.0481589,47.5414168
END:VEVENT
END:VCALENDAR