BEGIN:VCALENDAR
VERSION:2.0
PRODID:-//Mountains To Sound Greenway Trust - ECPv6.15.20//NONSGML v1.0//EN
CALSCALE:GREGORIAN
METHOD:PUBLISH
X-WR-CALNAME:Mountains To Sound Greenway Trust
X-ORIGINAL-URL:https://mtsgreenway.org
X-WR-CALDESC:Events for Mountains To Sound Greenway Trust
REFRESH-INTERVAL;VALUE=DURATION:PT1H
X-Robots-Tag:noindex
X-PUBLISHED-TTL:PT1H
BEGIN:VTIMEZONE
TZID:America/Los_Angeles
BEGIN:DAYLIGHT
TZOFFSETFROM:-0800
TZOFFSETTO:-0700
TZNAME:PDT
DTSTART:20190310T100000
END:DAYLIGHT
BEGIN:STANDARD
TZOFFSETFROM:-0700
TZOFFSETTO:-0800
TZNAME:PST
DTSTART:20191103T090000
END:STANDARD
BEGIN:DAYLIGHT
TZOFFSETFROM:-0800
TZOFFSETTO:-0700
TZNAME:PDT
DTSTART:20200308T100000
END:DAYLIGHT
BEGIN:STANDARD
TZOFFSETFROM:-0700
TZOFFSETTO:-0800
TZNAME:PST
DTSTART:20201101T090000
END:STANDARD
BEGIN:DAYLIGHT
TZOFFSETFROM:-0800
TZOFFSETTO:-0700
TZNAME:PDT
DTSTART:20210314T100000
END:DAYLIGHT
BEGIN:STANDARD
TZOFFSETFROM:-0700
TZOFFSETTO:-0800
TZNAME:PST
DTSTART:20211107T090000
END:STANDARD
END:VTIMEZONE
BEGIN:VEVENT
DTSTART;TZID=America/Los_Angeles:20200229T100000
DTEND;TZID=America/Los_Angeles:20200229T140000
DTSTAMP:20260423T004716
CREATED:20200131T224017Z
LAST-MODIFIED:20200310T235057Z
UID:332811-1582970400-1582984800@mtsgreenway.org
SUMMARY:Habitat Restoration along Pickering Reach
DESCRIPTION:Trees along Issaquah streams are critical to healthy salmon runs and clean water. Native vegetation shades and cleans the water\, and provides important habitat for fish and wildlife large and small. The Issaquah Creek Basin is about 61 square miles and is bordered by Tiger\, Squak and Taylor mountains. Even though the Basin has many acres of good habitat and abundant wildlife\, existing streamside areas are filled with more than 50% non-native plants. These plants don't provide shelter for wildlife and fish and are competition for the health of native vegetation. Pickering Reach is an urban corridor providing space and habitat for a variety of wildlife\, but it needs help. Volunteers will help remove these invasive plants and give the native plants a better chance at survival. 
URL:https://mtsgreenway.org/event/habitat-restoration-along-pickering-reach-2/
CATEGORIES:Greenway Event,Volunteer
ATTACH;FMTTYPE=image/jpeg:https://ez5in8wrase.exactdn.com/wp-content/uploads/2020/01/Habitat-Restoration-at-Pickering-Reach-3-17-18-3_edited-scaled.jpg
END:VEVENT
END:VCALENDAR