BEGIN:VCALENDAR
VERSION:2.0
PRODID:-//Mountains To Sound Greenway Trust - ECPv6.15.20//NONSGML v1.0//EN
CALSCALE:GREGORIAN
METHOD:PUBLISH
X-WR-CALNAME:Mountains To Sound Greenway Trust
X-ORIGINAL-URL:https://mtsgreenway.org
X-WR-CALDESC:Events for Mountains To Sound Greenway Trust
REFRESH-INTERVAL;VALUE=DURATION:PT1H
X-Robots-Tag:noindex
X-PUBLISHED-TTL:PT1H
BEGIN:VTIMEZONE
TZID:America/Los_Angeles
BEGIN:DAYLIGHT
TZOFFSETFROM:-0800
TZOFFSETTO:-0700
TZNAME:PDT
DTSTART:20180311T100000
END:DAYLIGHT
BEGIN:STANDARD
TZOFFSETFROM:-0700
TZOFFSETTO:-0800
TZNAME:PST
DTSTART:20181104T090000
END:STANDARD
BEGIN:DAYLIGHT
TZOFFSETFROM:-0800
TZOFFSETTO:-0700
TZNAME:PDT
DTSTART:20190310T100000
END:DAYLIGHT
BEGIN:STANDARD
TZOFFSETFROM:-0700
TZOFFSETTO:-0800
TZNAME:PST
DTSTART:20191103T090000
END:STANDARD
BEGIN:DAYLIGHT
TZOFFSETFROM:-0800
TZOFFSETTO:-0700
TZNAME:PDT
DTSTART:20200308T100000
END:DAYLIGHT
BEGIN:STANDARD
TZOFFSETFROM:-0700
TZOFFSETTO:-0800
TZNAME:PST
DTSTART:20201101T090000
END:STANDARD
END:VTIMEZONE
BEGIN:VEVENT
DTSTART;TZID=America/Los_Angeles:20190326T110000
DTEND;TZID=America/Los_Angeles:20190326T120000
DTSTAMP:20260423T161558
CREATED:20190322T041441Z
LAST-MODIFIED:20190322T041441Z
UID:163133-1553598000-1553601600@mtsgreenway.org
SUMMARY:Forest Bathing for Wellness in Maple Valley
DESCRIPTION:Have you heard of shinrin-yoku\, a Japanese practice also known as forest bathing therapy? In as little as 15 minutes\, time spent in nature provides many benefits. This is a time to move your body slowly. This is a time to WANDER with no particular destination. This is a time to WONDER and allow your mind to go where it will. This is a time to BE present in nature. This is a time to BASK in the beauty of the forest. We will meet at the gazebo at Lake Wilderness Arboretum. We will begin promptly at 11 a.m. and end promptly at noon. Full details here: http://seattle.eventful.com/events/forest-bathing-wellness-/E0-001-113443869-2@2019032611 
URL:https://mtsgreenway.org/event/forest-bathing-for-wellness-in-maple-valley/2019-03-26/
LOCATION:Lake Wilderness Arboretum\, 22520 Southeast 248th Street\, Maple Valley\, 98038
CATEGORIES:Education
ATTACH;FMTTYPE=image/jpeg:https://ez5in8wrase.exactdn.com/wp-content/uploads/2019/03/outdoors_recreation_default_3.jpg
GEO:47.3796663;-122.0413565
X-APPLE-STRUCTURED-LOCATION;VALUE=URI;X-ADDRESS=Lake Wilderness Arboretum 22520 Southeast 248th Street Maple Valley 98038;X-APPLE-RADIUS=500;X-TITLE=22520 Southeast 248th Street:geo:-122.0413565,47.3796663
END:VEVENT
END:VCALENDAR