BEGIN:VCALENDAR
VERSION:2.0
PRODID:-//Mountains To Sound Greenway Trust - ECPv6.15.20//NONSGML v1.0//EN
CALSCALE:GREGORIAN
METHOD:PUBLISH
X-WR-CALNAME:Mountains To Sound Greenway Trust
X-ORIGINAL-URL:https://mtsgreenway.org
X-WR-CALDESC:Events for Mountains To Sound Greenway Trust
REFRESH-INTERVAL;VALUE=DURATION:PT1H
X-Robots-Tag:noindex
X-PUBLISHED-TTL:PT1H
BEGIN:VTIMEZONE
TZID:America/Los_Angeles
BEGIN:DAYLIGHT
TZOFFSETFROM:-0800
TZOFFSETTO:-0700
TZNAME:PDT
DTSTART:20200308T100000
END:DAYLIGHT
BEGIN:STANDARD
TZOFFSETFROM:-0700
TZOFFSETTO:-0800
TZNAME:PST
DTSTART:20201101T090000
END:STANDARD
BEGIN:DAYLIGHT
TZOFFSETFROM:-0800
TZOFFSETTO:-0700
TZNAME:PDT
DTSTART:20210314T100000
END:DAYLIGHT
BEGIN:STANDARD
TZOFFSETFROM:-0700
TZOFFSETTO:-0800
TZNAME:PST
DTSTART:20211107T090000
END:STANDARD
BEGIN:DAYLIGHT
TZOFFSETFROM:-0800
TZOFFSETTO:-0700
TZNAME:PDT
DTSTART:20220313T100000
END:DAYLIGHT
BEGIN:STANDARD
TZOFFSETFROM:-0700
TZOFFSETTO:-0800
TZNAME:PST
DTSTART:20221106T090000
END:STANDARD
END:VTIMEZONE
BEGIN:VEVENT
DTSTART;TZID=America/Los_Angeles:20210327T100000
DTEND;TZID=America/Los_Angeles:20210327T123000
DTSTAMP:20260425T210156
CREATED:20210317T231750Z
LAST-MODIFIED:20210317T231750Z
UID:552220-1616839200-1616848200@mtsgreenway.org
SUMMARY:Clean Water Career Events
DESCRIPTION:Interested in jobs that protect human health and the environment? Join King County staff members for a virtual event to explore careers in clean water. Professionals will be leading short sessions to share details of their job\, their career story\, and advice for getting hired. This event open to all high school-aged youth.\n\n\n\n\n\n\n\n\n\n\n\n\n\n\n\n\n\n\n\n\n\nStudents will participate in three informational sessions with professionals in a variety of careers. The sessions will be interactive and include time for students to ask questions.  Examples of careers that will be represented include: \n\nEnvironmental & Civil Engineers\nWater Quality Scientist\nTreatment Plant Operator\nCommunity Relations Specialist\nProject Manager\nMaintenance Mechanic\n\nWHEN? \nSaturday\, March 27:  10:00a.m. – 12:30p.m. \nSaturday\, April 10:  10:00a.m. – 12:30p.m. \nSaturday\, April 24:  10:00a.m. – 12:30p.m. \nClick the links above to register! Each event will have different professionals attending so students can participate in multiple events.   \n  \nFor more information about all education offerings go to https://www.kingcounty.gov/services/environment/wastewater/education.aspx
URL:https://mtsgreenway.org/event/clean-water-career-events/2021-03-27/
LOCATION:Online\, Utilitarian Conferences Gathering\, London\, E16 2DQ
CATEGORIES:Education
ATTACH;FMTTYPE=image/jpeg:https://ez5in8wrase.exactdn.com/wp-content/uploads/2021/03/wtd-career-1.jpg
GEO:37.09024;-95.712891
X-APPLE-STRUCTURED-LOCATION;VALUE=URI;X-ADDRESS=Online Utilitarian Conferences Gathering London E16 2DQ;X-APPLE-RADIUS=500;X-TITLE=Utilitarian Conferences Gathering:geo:-95.712891,37.09024
END:VEVENT
END:VCALENDAR