BEGIN:VCALENDAR
VERSION:2.0
PRODID:-//Mountains To Sound Greenway Trust - ECPv6.15.20//NONSGML v1.0//EN
CALSCALE:GREGORIAN
METHOD:PUBLISH
X-WR-CALNAME:Mountains To Sound Greenway Trust
X-ORIGINAL-URL:https://mtsgreenway.org
X-WR-CALDESC:Events for Mountains To Sound Greenway Trust
REFRESH-INTERVAL;VALUE=DURATION:PT1H
X-Robots-Tag:noindex
X-PUBLISHED-TTL:PT1H
BEGIN:VTIMEZONE
TZID:America/Los_Angeles
BEGIN:DAYLIGHT
TZOFFSETFROM:-0800
TZOFFSETTO:-0700
TZNAME:PDT
DTSTART:20250309T100000
END:DAYLIGHT
BEGIN:STANDARD
TZOFFSETFROM:-0700
TZOFFSETTO:-0800
TZNAME:PST
DTSTART:20251102T090000
END:STANDARD
BEGIN:DAYLIGHT
TZOFFSETFROM:-0800
TZOFFSETTO:-0700
TZNAME:PDT
DTSTART:20260308T100000
END:DAYLIGHT
BEGIN:STANDARD
TZOFFSETFROM:-0700
TZOFFSETTO:-0800
TZNAME:PST
DTSTART:20261101T090000
END:STANDARD
BEGIN:DAYLIGHT
TZOFFSETFROM:-0800
TZOFFSETTO:-0700
TZNAME:PDT
DTSTART:20270314T100000
END:DAYLIGHT
BEGIN:STANDARD
TZOFFSETFROM:-0700
TZOFFSETTO:-0800
TZNAME:PST
DTSTART:20271107T090000
END:STANDARD
END:VTIMEZONE
BEGIN:VEVENT
DTSTART;TZID=America/Los_Angeles:20260521T083000
DTEND;TZID=America/Los_Angeles:20260521T100000
DTSTAMP:20260423T150040
CREATED:20260301T163008Z
LAST-MODIFIED:20260302T210234Z
UID:1286125-1779352200-1779357600@mtsgreenway.org
SUMMARY:Spring Fundraising Breakfast
DESCRIPTION:
URL:https://mtsgreenway.org/event/spring-fundraising-breakfast-3/
CATEGORIES:Greenway Event
ATTACH;FMTTYPE=image/jpeg:https://ez5in8wrase.exactdn.com/wp-content/uploads/2024/01/2023SpringBreakfast_Credit_Merrill_Images-13.jpg
END:VEVENT
BEGIN:VEVENT
DTSTART;TZID=America/Los_Angeles:20260425T100000
DTEND;TZID=America/Los_Angeles:20260425T140000
DTSTAMP:20260423T150040
CREATED:20260317T172838Z
LAST-MODIFIED:20260422T211210Z
UID:1709445-1777111200-1777125600@mtsgreenway.org
SUMMARY:Earth Day Restoration at Lake Sammamish State Park
DESCRIPTION:Join the Greenway in celebrating Earth Day and Earth Month at Lake Sammamish State Park! On Earth Day\, April 22\, learn about restoration at the park during an Issaquah Creek Lakeside Lecture. Then on\, April 25\, continue celebrating Earth Month by helping remove Himalayan blackberry to help restore native plant habitat and aid in salmon habitat recovery! During the restoration event\, we will also have a special ecology bingo game where you can win a Greenway prize for winning.
URL:https://mtsgreenway.org/event/earth-day-restoration-at-lake-sammamish-state-park-2/
CATEGORIES:Restoration,Volunteer
ATTACH;FMTTYPE=image/jpeg:https://ez5in8wrase.exactdn.com/wp-content/uploads/2026/03/A865A1A3-34F2-4D06-92BB-E663140124F5.jpeg
END:VEVENT
BEGIN:VEVENT
DTSTART;TZID=America/Los_Angeles:20260711T100000
DTEND;TZID=America/Los_Angeles:20260711T140000
DTSTAMP:20260423T150040
CREATED:20260317T180642Z
LAST-MODIFIED:20260423T012113Z
UID:1709485-1783764000-1783778400@mtsgreenway.org
SUMMARY:Lead-a-Llama in the Teanaway Community Forest
DESCRIPTION:
URL:https://mtsgreenway.org/event/lead-a-llama-in-the-teanaway-community-forest-2/
CATEGORIES:Explore the Greenway,Greenway Event,Outdoor Recreation
ATTACH;FMTTYPE=image/jpeg:https://ez5in8wrase.exactdn.com/wp-content/uploads/2026/03/180320261773856068.jpg
END:VEVENT
BEGIN:VEVENT
DTSTART;TZID=America/Los_Angeles:20260502T100000
DTEND;TZID=America/Los_Angeles:20260502T140000
DTSTAMP:20260423T150040
CREATED:20260320T190741Z
LAST-MODIFIED:20260423T022912Z
UID:1712977-1777716000-1777730400@mtsgreenway.org
SUMMARY:Habitat Restoration at Lake Sammamish State Park
DESCRIPTION:Join us at Lake Sammamish State Park for habitat restoration along Issaquah Creek! We will be removing Himalayan blackberry to support the growth of native trees and shrubs and contribute to a healthier salmon habitat.
URL:https://mtsgreenway.org/event/habitat-restoration-at-lake-sammamish-state-park-9/
CATEGORIES:Restoration,Volunteer
ATTACH;FMTTYPE=image/jpeg:https://ez5in8wrase.exactdn.com/wp-content/uploads/2026/03/A865A1A3-34F2-4D06-92BB-E663140124F5.jpeg
END:VEVENT
BEGIN:VEVENT
DTSTART;TZID=America/Los_Angeles:20260503T100000
DTEND;TZID=America/Los_Angeles:20260503T140000
DTSTAMP:20260423T150040
CREATED:20260403T165422Z
LAST-MODIFIED:20260423T161653Z
UID:1728857-1777802400-1777816800@mtsgreenway.org
SUMMARY:Aventureros River Walk
DESCRIPTION:Join us at Dickey Creek Trailhead on Sunday\, May 3\, for a family-friendly River Walk! This event features a short trail\, wide enough for a wagon or stroller\, to a popular swimming hole with natural sandstone slides. There will be no swimming at the event. \n  \n  \nDuring the River Walk\, you’ll learn about the Teanaway Community Forest\, how to be safe and comfortable outdoors\, and what makes this place so special for both people and fish! Noel Trujillo-Garcia\, who leads APOYO’s Aventureros Program\, will co-lead the event with Vincent Pruis\, speaking about outdoor safety\, and Tori Wood\, speaking about habitat. \n  \n  \nPark at the Dickey Creek Trailhead (Discover Pass required) then check in for the event by 10AM. Once you’ve checked in\, you can use the vault toilet on site before the walk begins. Remember to bring: layers for the weather\, walking shoes\, a Discover Pass for parking\, and water.
URL:https://mtsgreenway.org/event/aventureros-river-walk/
CATEGORIES:Explore the Greenway,Greenway Event
ATTACH;FMTTYPE=image/jpeg:https://ez5in8wrase.exactdn.com/wp-content/uploads/2026/04/030420261775235700.jpg
END:VEVENT
BEGIN:VEVENT
DTSTART;TZID=America/Los_Angeles:20260424T100000
DTEND;TZID=America/Los_Angeles:20260424T140000
DTSTAMP:20260423T150040
CREATED:20260411T234608Z
LAST-MODIFIED:20260420T171941Z
UID:1738228-1777024800-1777039200@mtsgreenway.org
SUMMARY:Oxbow Loop Trail Maintenance
DESCRIPTION:Join us in maintaining this popular\, easy hike through Spruce forest in the Middle Fork Valley! Using hand tools we will repair eroded sections of trail damaged by winter flooding. We will also remove invasive blackberry canes\, which are encroaching on the site.
URL:https://mtsgreenway.org/event/oxbow-loop-trail-maintenance-and-restoration/
CATEGORIES:Trails,Volunteer
ATTACH;FMTTYPE=image/jpeg:https://ez5in8wrase.exactdn.com/wp-content/uploads/2026/04/110420261775951340-rotated.jpg
END:VEVENT
BEGIN:VEVENT
DTSTART;TZID=America/Los_Angeles:20260501T100000
DTEND;TZID=America/Los_Angeles:20260501T140000
DTSTAMP:20260423T150040
CREATED:20260411T235646Z
LAST-MODIFIED:20260423T022322Z
UID:1738252-1777629600-1777644000@mtsgreenway.org
SUMMARY:Oxbow Loop Trail Maintenance and Restoration
DESCRIPTION:Join us in our ongoing efforts to repair our beloved Washington trails after winter storm damage. Using hand tools we will repair eroded sections of this popular loop trail damaged by winter flooding. We will also remove invasive blackberry canes\, which are encroaching on the site.
URL:https://mtsgreenway.org/event/oxbow-loop-trail-maintenance-and-restoration-2/
CATEGORIES:Trails,Volunteer
ATTACH;FMTTYPE=image/jpeg:https://ez5in8wrase.exactdn.com/wp-content/uploads/2026/03/24-_Z9X6385-1.jpg
END:VEVENT
BEGIN:VEVENT
DTSTART;TZID=America/Los_Angeles:20260509T100000
DTEND;TZID=America/Los_Angeles:20260509T140000
DTSTAMP:20260423T150040
CREATED:20260413T223014Z
LAST-MODIFIED:20260422T165105Z
UID:1740441-1778320800-1778335200@mtsgreenway.org
SUMMARY:Habitat Restoration at Squak Valley
DESCRIPTION:Join the Greenway at Squak Valley for habitat restoration in Issaquah! We will remove blackberry in efforts to restore areas along Issaquah Creek.
URL:https://mtsgreenway.org/event/habitat-restoration-at-squak-valley/
CATEGORIES:Restoration,Volunteer
ATTACH;FMTTYPE=image/jpeg:https://ez5in8wrase.exactdn.com/wp-content/uploads/2026/04/130420261776121255-rotated.jpg
END:VEVENT
BEGIN:VEVENT
DTSTART;TZID=America/Los_Angeles:20260516T100000
DTEND;TZID=America/Los_Angeles:20260516T140000
DTSTAMP:20260423T150040
CREATED:20260413T223015Z
LAST-MODIFIED:20260422T050213Z
UID:1740446-1778925600-1778940000@mtsgreenway.org
SUMMARY:Habitat Restoration at Discovery Park
DESCRIPTION:Join us at Discovery Park to remove invasive Himalayan blackberry and restore healthy native plant habitat in Seattle's largest public park!
URL:https://mtsgreenway.org/event/habitat-restoration-at-discovery-park-10/
CATEGORIES:Restoration,Volunteer
ATTACH;FMTTYPE=image/jpeg:https://ez5in8wrase.exactdn.com/wp-content/uploads/2026/04/130420261776121355.jpg
END:VEVENT
BEGIN:VEVENT
DTSTART;TZID=America/Los_Angeles:20260508T100000
DTEND;TZID=America/Los_Angeles:20260508T140000
DTSTAMP:20260423T150040
CREATED:20260415T220606Z
LAST-MODIFIED:20260417T010538Z
UID:1742846-1778234400-1778248800@mtsgreenway.org
SUMMARY:Nursery Maintenance Event
DESCRIPTION:Join us at the Greenway Nursery as we work to keep our native plant nursery in good shape through the spring! We will be weeding around pots\, repotting plants\, and doing over-all maintenance.
URL:https://mtsgreenway.org/event/nursery-maintenance-event/
CATEGORIES:Restoration,Volunteer
ATTACH;FMTTYPE=image/jpeg:https://ez5in8wrase.exactdn.com/wp-content/uploads/2026/03/IMG_1918-edited.jpeg
END:VEVENT
BEGIN:VEVENT
DTSTART;TZID=America/Los_Angeles:20260530T100000
DTEND;TZID=America/Los_Angeles:20260530T140000
DTSTAMP:20260423T150040
CREATED:20260417T181733Z
LAST-MODIFIED:20260423T164024Z
UID:1745140-1780135200-1780149600@mtsgreenway.org
SUMMARY:Habitat Restoration at Park Pointe in Issaquah
DESCRIPTION:Join us at Park Pointe in Issaquah to remove Himalayan blackberry from native plant habitat! This supports long-term efforts for wildlife habitat connectivity and the growth of our native plants.
URL:https://mtsgreenway.org/event/habitat-restoration-at-park-pointe-in-issaquah-2/
CATEGORIES:Restoration,Volunteer
ATTACH;FMTTYPE=image/jpeg:https://ez5in8wrase.exactdn.com/wp-content/uploads/2026/04/170420261776450818.jpg
END:VEVENT
BEGIN:VEVENT
DTSTART;TZID=America/Los_Angeles:20260522T100000
DTEND;TZID=America/Los_Angeles:20260522T140000
DTSTAMP:20260423T150040
CREATED:20260417T184802Z
LAST-MODIFIED:20260420T055310Z
UID:1745179-1779444000-1779458400@mtsgreenway.org
SUMMARY:Habitat Restoration at Lake Sammamish State Park
DESCRIPTION:Join us at Lake Sammamish State Park to remove blackberry along Issaquah Creek! These efforts will support salmon habitat recovery and help restore native plant habitat.
URL:https://mtsgreenway.org/event/habitat-restoration-at-lake-sammamish-state-park-10/
CATEGORIES:Restoration,Volunteer
ATTACH;FMTTYPE=image/jpeg:https://ez5in8wrase.exactdn.com/wp-content/uploads/2026/03/CB2807CA-14F9-45F0-8AFF-326F357D3EF4.jpeg
END:VEVENT
BEGIN:VEVENT
DTSTART;TZID=America/Los_Angeles:20260620T150000
DTEND;TZID=America/Los_Angeles:20260620T190000
DTSTAMP:20260423T150040
CREATED:20260421T193622Z
LAST-MODIFIED:20260421T204953Z
UID:1749899-1781967600-1781982000@mtsgreenway.org
SUMMARY:Teanaway Trail Fest
DESCRIPTION:Join us as we celebrate sustainable trail development in the Teanaway Community Forest. This annual fundraising party supports maintenance and sustainable development of local trails in the Teanaway Community Forest\, while educating the wide range of recreational users that visit this stunning forest. This event is free to attend\, and you’ll find: \n\nlive music\nfood\nbeer\nraffle\nsilent auction\nmechanical bull\ncrosscut station\n\nand more! Help us fundraise to support our local forest and trails\, and have fun doing it! Additionally\, volunteers who participate in trail work before the event will receive a free drink token! \n  \nMore information here: Teanaway Trail Fest – Dru Bru
URL:https://mtsgreenway.org/event/teanaway-trail-fest-2/
LOCATION:Dru Bru\, 10 Pass Life Way #3\, Snoqualmie Pass\, 98068
ATTACH;FMTTYPE=image/jpeg:https://ez5in8wrase.exactdn.com/wp-content/uploads/2026/04/Untitled-design-2.jpg
GEO:47.4211566;-121.4124836
X-APPLE-STRUCTURED-LOCATION;VALUE=URI;X-ADDRESS=Dru Bru 10 Pass Life Way #3 Snoqualmie Pass 98068;X-APPLE-RADIUS=500;X-TITLE=10 Pass Life Way #3:geo:-121.4124836,47.4211566
END:VEVENT
BEGIN:VEVENT
DTSTART;TZID=America/Los_Angeles:20260620T100000
DTEND;TZID=America/Los_Angeles:20260620T140000
DTSTAMP:20260423T150040
CREATED:20260421T194209Z
LAST-MODIFIED:20260422T164510Z
UID:1749943-1781949600-1781964000@mtsgreenway.org
SUMMARY:Trail Work for Trail Fest
DESCRIPTION:Join us as we continue the construction and finishing work on the new Windy Ridge Trail in the Teanaway Community Forest. This work party is part of a larger event – the Teanaway Trail Fest Fundraiser – that takes place at Dru Bru from 3pm-7pm. Volunteers will receive a free drink token and are invited to join the festivities afterwards. More information here: Teanaway Trail Fest – Dru Bru
URL:https://mtsgreenway.org/event/trail-work-for-trail-fest/
CATEGORIES:Trails,Volunteer
ATTACH;FMTTYPE=image/jpeg:https://ez5in8wrase.exactdn.com/wp-content/uploads/2026/04/IMG_0448-2-e1776800627771.jpeg
END:VEVENT
BEGIN:VEVENT
DTSTART;TZID=America/Los_Angeles:20260508T100000
DTEND;TZID=America/Los_Angeles:20260508T140000
DTSTAMP:20260423T150040
CREATED:20260423T182607Z
LAST-MODIFIED:20260423T184029Z
UID:1752408-1778234400-1778248800@mtsgreenway.org
SUMMARY:Granite Creek Storm Damage Repair
DESCRIPTION:Join us in our ongoing efforts to repair our beloved Washington trails after winter storm damage. Using hand tools we will repair and possibly reroute sections of trail that have slumped or eroded after winter flooding. The project work is within a mile of the trailhead and accessing the project will involve an uphill hike.
URL:https://mtsgreenway.org/event/granite-creek-storm-damage-repair/
CATEGORIES:Trails,Volunteer
ATTACH;FMTTYPE=image/jpeg:https://ez5in8wrase.exactdn.com/wp-content/uploads/2026/04/230420261776969605-rotated.jpg
END:VEVENT
BEGIN:VEVENT
DTSTART;TZID=America/Los_Angeles:20260515T100000
DTEND;TZID=America/Los_Angeles:20260515T140000
DTSTAMP:20260423T150040
CREATED:20260423T182608Z
LAST-MODIFIED:20260423T183816Z
UID:1752413-1778839200-1778853600@mtsgreenway.org
SUMMARY:Granite Creek Trail Maintenance
DESCRIPTION:We need your help to maintain Washington trails this spring! The main focus of our project will be reducing erosion and installing drainage on the first quarter mile of the Granite Creek trail. We may also remove encroaching blackberry. Tasks will involve digging with hand tools\, cutting brush with loppers or hand snips\, and possibly moving rocks or other material.
URL:https://mtsgreenway.org/event/granite-creek-trail-maintenance/
CATEGORIES:Trails,Volunteer
ATTACH;FMTTYPE=image/jpeg:https://ez5in8wrase.exactdn.com/wp-content/uploads/2026/04/230420261776969439.jpg
END:VEVENT
BEGIN:VEVENT
DTSTART;TZID=America/Los_Angeles:20260522T100000
DTEND;TZID=America/Los_Angeles:20260522T140000
DTSTAMP:20260423T150040
CREATED:20260423T183637Z
LAST-MODIFIED:20260423T184338Z
UID:1752431-1779444000-1779458400@mtsgreenway.org
SUMMARY:Garfield Ledges Overlook Maintenance and Restoration
DESCRIPTION:We need your help to maintain Washington trails this spring! Join us in working to improve and restore impacted areas at the popular Garfield Ledges overlook. Tasks will include digging with hand tools\, cutting back brush with hand saws or loppers\, blocking off social trails\, and moving rocks and other materials. The Garfield Ledges trail is a fairly short trail (just under a mile long)\, but can be quite steep in places\, so be prepared for an uphill hike to get to the project.
URL:https://mtsgreenway.org/event/garfield-ledges-overlook-maintenance-and-restoration/
CATEGORIES:Trails,Volunteer
ATTACH;FMTTYPE=image/jpeg:https://ez5in8wrase.exactdn.com/wp-content/uploads/2026/04/230420261776969795-rotated.jpg
END:VEVENT
BEGIN:VEVENT
DTSTART;TZID=America/Los_Angeles:20260529T100000
DTEND;TZID=America/Los_Angeles:20260529T140000
DTSTAMP:20260423T150040
CREATED:20260423T183638Z
LAST-MODIFIED:20260423T184502Z
UID:1752436-1780048800-1780063200@mtsgreenway.org
SUMMARY:Garfield Ledges Trail Maintenance
DESCRIPTION:We will continue maintenance work on the Garfield Ledges trail. The upper half mile of trail has experienced erosion over time\, so we will be working to install and improve drainage\, restore impacted areas\, and keep the trail in good shape for years to come! We may also continue or complete restoration efforts on the overlook if time allows. Tasks will include digging with handtools\, cutting back brush with hand saws or loppers\, blocking off social trails\, and moving rocks and other materials. The Garfield Ledges trail is a fairly short trail (just under a mile long)\, but can be quite steep in places\, so be prepared for an uphill hike to get to the project.
URL:https://mtsgreenway.org/event/garfield-ledges-trail-maintenance/
CATEGORIES:Trails,Volunteer
ATTACH;FMTTYPE=image/jpeg:https://ez5in8wrase.exactdn.com/wp-content/uploads/2026/04/230420261776969885.jpg
END:VEVENT
END:VCALENDAR