BEGIN:VCALENDAR
VERSION:2.0
PRODID:-//Mountains To Sound Greenway Trust - ECPv6.15.20//NONSGML v1.0//EN
CALSCALE:GREGORIAN
METHOD:PUBLISH
X-WR-CALNAME:Mountains To Sound Greenway Trust
X-ORIGINAL-URL:https://mtsgreenway.org
X-WR-CALDESC:Events for Mountains To Sound Greenway Trust
REFRESH-INTERVAL;VALUE=DURATION:PT1H
X-Robots-Tag:noindex
X-PUBLISHED-TTL:PT1H
BEGIN:VTIMEZONE
TZID:America/Los_Angeles
BEGIN:DAYLIGHT
TZOFFSETFROM:-0800
TZOFFSETTO:-0700
TZNAME:PDT
DTSTART:20200308T100000
END:DAYLIGHT
BEGIN:STANDARD
TZOFFSETFROM:-0700
TZOFFSETTO:-0800
TZNAME:PST
DTSTART:20201101T090000
END:STANDARD
BEGIN:DAYLIGHT
TZOFFSETFROM:-0800
TZOFFSETTO:-0700
TZNAME:PDT
DTSTART:20210314T100000
END:DAYLIGHT
BEGIN:STANDARD
TZOFFSETFROM:-0700
TZOFFSETTO:-0800
TZNAME:PST
DTSTART:20211107T090000
END:STANDARD
BEGIN:DAYLIGHT
TZOFFSETFROM:-0800
TZOFFSETTO:-0700
TZNAME:PDT
DTSTART:20220313T100000
END:DAYLIGHT
BEGIN:STANDARD
TZOFFSETFROM:-0700
TZOFFSETTO:-0800
TZNAME:PST
DTSTART:20221106T090000
END:STANDARD
END:VTIMEZONE
BEGIN:VEVENT
DTSTART;VALUE=DATE:20210103
DTEND;VALUE=DATE:20210119
DTSTAMP:20260424T004637
CREATED:20201215T181337Z
LAST-MODIFIED:20201215T181555Z
UID:500156-1609632000-1611014399@mtsgreenway.org
SUMMARY:Celebrate Martin Luther King Day with a Walk in the Park
DESCRIPTION:Beginning Jan. 3\, you can be inspired by the words of Martin Luther King Jr. as you take a winter walk at Lake Sammamish State Park. The walk pays tribute to his life and leadership while America celebrates MLK Day on January 18\, 2021. \nThe walk will begin at Tibbetts Beach and takes you along the lakeshore to the Sunset Beach bathhouse. Learn about his life and his dreams with quotes along the pathway. Many of his quotes are as relevant today as they were in the 1960s when he initiated change while speaking out for civil rights. \nMLK’s most famous speech— “I have a dream…” — is captured in its entirety at the end of the walk. \nThe MLK walk-in-the-park is brought to you with a grant from Visit Issaquah.
URL:https://mtsgreenway.org/event/celebrate-martin-luther-king-day-with-a-walk-in-the-park/2021-01-03/
LOCATION:Lake Sammamish State Park\, 2000 N.W. Sammamish Road\, Issaquah
CATEGORIES:Education,Outdoor Recreation
ATTACH;FMTTYPE=image/jpeg:https://ez5in8wrase.exactdn.com/wp-content/uploads/2020/12/MLK-at-LSSP.jpg
ORGANIZER;CN="Friends of Lake Sammamish State Park":MAILTO:contact@flssp.org
GEO:47.5530706;-122.0653695
X-APPLE-STRUCTURED-LOCATION;VALUE=URI;X-ADDRESS=Lake Sammamish State Park 2000 N.W. Sammamish Road Issaquah;X-APPLE-RADIUS=500;X-TITLE=2000 N.W. Sammamish Road:geo:-122.0653695,47.5530706
END:VEVENT
END:VCALENDAR