BEGIN:VCALENDAR
VERSION:2.0
PRODID:-//Mountains To Sound Greenway Trust - ECPv6.15.20//NONSGML v1.0//EN
CALSCALE:GREGORIAN
METHOD:PUBLISH
X-WR-CALNAME:Mountains To Sound Greenway Trust
X-ORIGINAL-URL:https://mtsgreenway.org
X-WR-CALDESC:Events for Mountains To Sound Greenway Trust
REFRESH-INTERVAL;VALUE=DURATION:PT1H
X-Robots-Tag:noindex
X-PUBLISHED-TTL:PT1H
BEGIN:VTIMEZONE
TZID:America/Los_Angeles
BEGIN:DAYLIGHT
TZOFFSETFROM:-0800
TZOFFSETTO:-0700
TZNAME:PDT
DTSTART:20170312T100000
END:DAYLIGHT
BEGIN:STANDARD
TZOFFSETFROM:-0700
TZOFFSETTO:-0800
TZNAME:PST
DTSTART:20171105T090000
END:STANDARD
BEGIN:DAYLIGHT
TZOFFSETFROM:-0800
TZOFFSETTO:-0700
TZNAME:PDT
DTSTART:20180311T100000
END:DAYLIGHT
BEGIN:STANDARD
TZOFFSETFROM:-0700
TZOFFSETTO:-0800
TZNAME:PST
DTSTART:20181104T090000
END:STANDARD
BEGIN:DAYLIGHT
TZOFFSETFROM:-0800
TZOFFSETTO:-0700
TZNAME:PDT
DTSTART:20190310T100000
END:DAYLIGHT
BEGIN:STANDARD
TZOFFSETFROM:-0700
TZOFFSETTO:-0800
TZNAME:PST
DTSTART:20191103T090000
END:STANDARD
END:VTIMEZONE
BEGIN:VEVENT
DTSTART;TZID=America/Los_Angeles:20181101T100000
DTEND;TZID=America/Los_Angeles:20181101T200000
DTSTAMP:20260420T054422
CREATED:20181026T212724Z
LAST-MODIFIED:20181026T212724Z
UID:83511-1541066400-1541102400@mtsgreenway.org
SUMMARY:Burke Museum Free First Thursday
DESCRIPTION:The Burke Museum is the Washington State Museum of Natural History and Culture – a place to ask questions\, seek answers and be inspired. \nOn the first Thursday of every month\, admission to the Burke Museum is FREE and the museum is open until 8 pm. \nHere are a few links to help you plan your visit: \n\nCurrent exhibits\nDirections and parking (please note that the parking lot closest to the Burke is now closed)\n\nEnter to win a gift from Made in Washington! Share a photo from today’s visit on Facebook and tag Made in Washington’s Facebook page to enter.
URL:https://mtsgreenway.org/event/burke-museum-free-first-thursday/2018-11-01/
LOCATION:Burke Museum\, 17th Ave NE and NE 45th St.\, Seattle\, WA\, United States
CATEGORIES:Education
ATTACH;FMTTYPE=image/jpeg:https://ez5in8wrase.exactdn.com/wp-content/uploads/2018/10/first-thursday-trio-1.jpg
GEO:47.661262;-122.3095529
X-APPLE-STRUCTURED-LOCATION;VALUE=URI;X-ADDRESS=Burke Museum 17th Ave NE and NE 45th St. Seattle WA United States;X-APPLE-RADIUS=500;X-TITLE=17th Ave NE and NE 45th St.:geo:-122.3095529,47.661262
END:VEVENT
END:VCALENDAR